BEGIN:VCALENDAR
PRODID:NingEventWidget-v1
VERSION:2.0
METHOD:PUBLISH
BEGIN:VTIMEZONE
TZID:America/Chicago
X-LIC-LOCATION:America/Chicago
BEGIN:DAYLIGHT
TZOFFSETFROM:-0600
TZOFFSETTO:-0500
TZNAME:CDT
DTSTART:19700308T020000
RRULE:FREQ=YEARLY;BYMONTH=3;BYDAY=2SU
END:DAYLIGHT
BEGIN:STANDARD
TZOFFSETFROM:-0500
TZOFFSETTO:-0600
TZNAME:CST
DTSTART:19701101T020000
RRULE:FREQ=YEARLY;BYMONTH=11;BYDAY=1SU
END:STANDARD
END:VTIMEZONE
BEGIN:VEVENT
UID:3181080:Event:859654
DTSTAMP:20260422T210748Z
SUMMARY:Knives Live and iKC ... Win a Knife
DESCRIPTION:Join us as we watch Knives Live and count the stockmans\nb
 e sure to check the rules here (enter early to meet the deadline)\n\nh
 ttp://www.iknifecollector.com/group/stockmanpatterngroup/forum/topics/
 knives-live-stockman-fun\n\n\n\n\nFor more information visit https://i
 knifecollector.com/events/knives-live-and-ikc-win-a-knife
DTSTART;TZID=America/Chicago:20130531T210000
DTEND;TZID=America/Chicago:20130531T234500
CATEGORIES:knives, live, party
LOCATION:iKC CHATROOM
WEBSITE:
URL:
CONTACT:
ORGANIZER;CN="Jan Carter":https://iknifecollector.com/profile/JanCarte
 r
ATTACH;FMTTYPE="image/jpeg":
ATTENDEE;ROLE=REQ-PARTICIPANT;PARTSTAT=ACCEPTED;RSVP=TRUE;CN="Charles 
 Sample":https://iknifecollector.com/profile/CharlesSample
ATTENDEE;ROLE=REQ-PARTICIPANT;PARTSTAT=ACCEPTED;RSVP=TRUE;CN="Jan Cart
 er":https://iknifecollector.com/profile/JanCarter
ATTENDEE;ROLE=REQ-PARTICIPANT;PARTSTAT=TENTATIVE;RSVP=TRUE;CN="KC MAP"
 :https://iknifecollector.com/profile/KCMAP
END:VEVENT
END:VCALENDAR
