BEGIN:VCALENDAR
PRODID:NingEventWidget-v1
VERSION:2.0
METHOD:PUBLISH
BEGIN:VTIMEZONE
TZID:America/Chicago
X-LIC-LOCATION:America/Chicago
BEGIN:DAYLIGHT
TZOFFSETFROM:-0600
TZOFFSETTO:-0500
TZNAME:CDT
DTSTART:19700308T020000
RRULE:FREQ=YEARLY;BYMONTH=3;BYDAY=2SU
END:DAYLIGHT
BEGIN:STANDARD
TZOFFSETFROM:-0500
TZOFFSETTO:-0600
TZNAME:CST
DTSTART:19701101T020000
RRULE:FREQ=YEARLY;BYMONTH=11;BYDAY=1SU
END:STANDARD
END:VTIMEZONE
BEGIN:VEVENT
UID:3181080:Event:865129
DTSTAMP:20260422T220440Z
SUMMARY:Knives Live Trapper Event
DESCRIPTION:Win a trapper by watching with us.  Make your Guess by We
 d at  midnight in the Knives Live Group\n\nFor more information visit
  https://iknifecollector.com/events/knives-live-trapper-event
DTSTART;TZID=America/Chicago:20130607T210000
DTEND;TZID=America/Chicago:20130607T234500
CATEGORIES:knives, live, watch
LOCATION:iKC Chat room
WEBSITE:http://www.iknifecollector.com/group/kniveslive-group
URL:http://www.iknifecollector.com/group/kniveslive-group
CONTACT:
ORGANIZER;CN="Jan Carter":https://iknifecollector.com/profile/JanCarte
 r
ATTACH;FMTTYPE="image/jpeg":
ATTENDEE;ROLE=REQ-PARTICIPANT;PARTSTAT=ACCEPTED;RSVP=TRUE;CN="Charles 
 Reed":https://iknifecollector.com/profile/CharlesReed
ATTENDEE;ROLE=REQ-PARTICIPANT;PARTSTAT=ACCEPTED;RSVP=TRUE;CN="Chuck Pa
 rham":https://iknifecollector.com/profile/ChuckParham
ATTENDEE;ROLE=REQ-PARTICIPANT;PARTSTAT=ACCEPTED;RSVP=TRUE;CN="Charles 
 Sample":https://iknifecollector.com/profile/CharlesSample
ATTENDEE;ROLE=REQ-PARTICIPANT;PARTSTAT=ACCEPTED;RSVP=TRUE;CN="Michelle
  \"Fingers\" DellaPelle":https://iknifecollector.com/profile/MichelleD
 ellaPelle
ATTENDEE;ROLE=REQ-PARTICIPANT;PARTSTAT=ACCEPTED;RSVP=TRUE;CN="Jan Cart
 er":https://iknifecollector.com/profile/JanCarter
ATTENDEE;ROLE=REQ-PARTICIPANT;PARTSTAT=TENTATIVE;RSVP=TRUE;CN="Sue Old
 sWidow":https://iknifecollector.com/profile/SueOldsWidow
END:VEVENT
END:VCALENDAR
