BEGIN:VCALENDAR
PRODID:NingEventWidget-v1
VERSION:2.0
METHOD:PUBLISH
BEGIN:VTIMEZONE
TZID:America/Chicago
X-LIC-LOCATION:America/Chicago
BEGIN:DAYLIGHT
TZOFFSETFROM:-0600
TZOFFSETTO:-0500
TZNAME:CDT
DTSTART:19700308T020000
RRULE:FREQ=YEARLY;BYMONTH=3;BYDAY=2SU
END:DAYLIGHT
BEGIN:STANDARD
TZOFFSETFROM:-0500
TZOFFSETTO:-0600
TZNAME:CST
DTSTART:19701101T020000
RRULE:FREQ=YEARLY;BYMONTH=11;BYDAY=1SU
END:STANDARD
END:VTIMEZONE
BEGIN:VEVENT
UID:3181080:Event:1719228
DTSTAMP:20260423T163602Z
SUMMARY:Lehigh Valley Knife Show
DESCRIPTION:Buy, sell, demonstrate, trade, display. Knives!125+ Tables
 \nSaturday, September 23rd: 9 AM to 5 PMSunday, September 24th: 9 AM t
 o 2 PM\nAdmission: $8.00! Free Parking, Handicapped Access, food & dri
 nk available. ABS Master and Journeyman Smiths, Purveyors, Knifemaking
  and Forging, Demonstration and materials, knife sharpening available.
  More information: https://paknifeshows.compaknifeshows@gmail.com\n\nF
 or more information visit https://iknifecollector.com/events/lehigh-va
 lley-knife-show-5
DTSTART;TZID=America/Chicago:20230923T090000
DTEND;TZID=America/Chicago:20230924T140000
CATEGORIES:knife, show
LOCATION:Charles Chrin Community Center of Palmer Township
WEBSITE:https://paknifeshows.com/map/
URL:https://paknifeshows.com/map/
CONTACT:267-714-4441
ORGANIZER:PA Knife Shows LLC
ATTACH;FMTTYPE="image/jpeg":
ATTENDEE;ROLE=REQ-PARTICIPANT;PARTSTAT=ACCEPTED;RSVP=TRUE;CN="Fred Eis
 en":https://iknifecollector.com/profile/FredEisen
END:VEVENT
END:VCALENDAR
