BEGIN:VCALENDAR
PRODID:NingEventWidget-v1
VERSION:2.0
METHOD:PUBLISH
BEGIN:VTIMEZONE
TZID:America/Chicago
X-LIC-LOCATION:America/Chicago
BEGIN:DAYLIGHT
TZOFFSETFROM:-0600
TZOFFSETTO:-0500
TZNAME:CDT
DTSTART:19700308T020000
RRULE:FREQ=YEARLY;BYMONTH=3;BYDAY=2SU
END:DAYLIGHT
BEGIN:STANDARD
TZOFFSETFROM:-0500
TZOFFSETTO:-0600
TZNAME:CST
DTSTART:19701101T020000
RRULE:FREQ=YEARLY;BYMONTH=11;BYDAY=1SU
END:STANDARD
END:VTIMEZONE
BEGIN:VEVENT
UID:3181080:Event:822648
DTSTAMP:20260422T230556Z
SUMMARY:Lets Chat about Queen Cutlery
DESCRIPTION:\n\nFor more information visit https://iknifecollector.com
 /events/lets-chat-about-queen-cutlery
DTSTART;TZID=America/Chicago:20130403T210000
DTEND;TZID=America/Chicago:20130403T213000
CATEGORIES:chat
LOCATION:Right here on iKC
WEBSITE:
URL:
CONTACT:
ORGANIZER;CN="Jan Carter":https://iknifecollector.com/profile/JanCarte
 r
ATTACH;FMTTYPE="image/jpeg":
ATTENDEE;ROLE=REQ-PARTICIPANT;PARTSTAT=ACCEPTED;RSVP=TRUE;CN="bruce wa
 yne randall":https://iknifecollector.com/profile/brucewaynerandall
ATTENDEE;ROLE=REQ-PARTICIPANT;PARTSTAT=ACCEPTED;RSVP=TRUE;CN="ANDREW G
 OTTESMAN":https://iknifecollector.com/profile/ANDREWGOTTESMAN
ATTENDEE;ROLE=REQ-PARTICIPANT;PARTSTAT=ACCEPTED;RSVP=TRUE;CN="Jan Cart
 er":https://iknifecollector.com/profile/JanCarter
ATTENDEE;ROLE=REQ-PARTICIPANT;PARTSTAT=TENTATIVE;RSVP=TRUE;CN="frank (
 nibs) dorman":https://iknifecollector.com/profile/franknibsdorman
ATTENDEE;ROLE=REQ-PARTICIPANT;PARTSTAT=TENTATIVE;RSVP=TRUE;CN="MÁRCIO
  FLORES":https://iknifecollector.com/profile/MARCIOFLORES
ATTENDEE;ROLE=REQ-PARTICIPANT;PARTSTAT=TENTATIVE;RSVP=TRUE;CN="jack wa
 lker":https://iknifecollector.com/profile/jackwalker
ATTENDEE;ROLE=REQ-PARTICIPANT;PARTSTAT=TENTATIVE;RSVP=TRUE;CN=jeff:htt
 ps://iknifecollector.com/profile/jeff599
ATTENDEE;ROLE=REQ-PARTICIPANT;PARTSTAT=TENTATIVE;RSVP=TRUE;CN="Warren 
 L. Strout":https://iknifecollector.com/profile/WarrenLStrout
ATTENDEE;ROLE=REQ-PARTICIPANT;PARTSTAT=TENTATIVE;RSVP=TRUE;CN="adam ra
 y":https://iknifecollector.com/profile/adamray
ATTENDEE;ROLE=REQ-PARTICIPANT;PARTSTAT=TENTATIVE;RSVP=TRUE;CN="Pedro E
 ugênio Cabral":https://iknifecollector.com/profile/PedroEugenioCabral
END:VEVENT
END:VCALENDAR
