BEGIN:VCALENDAR
PRODID:NingEventWidget-v1
VERSION:2.0
METHOD:PUBLISH
BEGIN:VTIMEZONE
TZID:America/Chicago
X-LIC-LOCATION:America/Chicago
BEGIN:DAYLIGHT
TZOFFSETFROM:-0600
TZOFFSETTO:-0500
TZNAME:CDT
DTSTART:19700308T020000
RRULE:FREQ=YEARLY;BYMONTH=3;BYDAY=2SU
END:DAYLIGHT
BEGIN:STANDARD
TZOFFSETFROM:-0500
TZOFFSETTO:-0600
TZNAME:CST
DTSTART:19701101T020000
RRULE:FREQ=YEARLY;BYMONTH=11;BYDAY=1SU
END:STANDARD
END:VTIMEZONE
BEGIN:VEVENT
UID:3181080:Event:1501880
DTSTAMP:20260420T014453Z
SUMMARY:Lone Star Knife Expo **TX
DESCRIPTION:The new dates are set! We've moved it back just a tad to h
 elp cushion a little before Blade. \n\nFor more information visit htt
 ps://iknifecollector.com/events/lone-star-knife-expo-tx
DTSTART;TZID=America/Chicago:20180324T180000
DTEND;TZID=America/Chicago:20180325T190000
CATEGORIES:knife, expo
LOCATION:Dallas Market Hall
WEBSITE:https://www.facebook.com/pg/lonestarknifeexpo/events/?ref=page
 _internal
URL:https://www.facebook.com/pg/lonestarknifeexpo/events/?ref=page_int
 ernal
CONTACT:
ORGANIZER:
ATTACH;FMTTYPE="image/jpeg":
ATTENDEE;ROLE=REQ-PARTICIPANT;PARTSTAT=TENTATIVE;RSVP=TRUE;CN="Patrick
  Langan":https://iknifecollector.com/profile/PatrickLangan
END:VEVENT
END:VCALENDAR
