BEGIN:VCALENDAR
PRODID:NingEventWidget-v1
VERSION:2.0
METHOD:PUBLISH
BEGIN:VTIMEZONE
TZID:America/Chicago
X-LIC-LOCATION:America/Chicago
BEGIN:DAYLIGHT
TZOFFSETFROM:-0600
TZOFFSETTO:-0500
TZNAME:CDT
DTSTART:19700308T020000
RRULE:FREQ=YEARLY;BYMONTH=3;BYDAY=2SU
END:DAYLIGHT
BEGIN:STANDARD
TZOFFSETFROM:-0500
TZOFFSETTO:-0600
TZNAME:CST
DTSTART:19701101T020000
RRULE:FREQ=YEARLY;BYMONTH=11;BYDAY=1SU
END:STANDARD
END:VTIMEZONE
BEGIN:VEVENT
UID:3181080:Event:738552
DTSTAMP:20260423T172457Z
SUMMARY:MANCHESTER KNIFE & GUN SHOW
DESCRIPTION:This show features high quality knives, sporting goods, an
 tique and collectible firearms, ammo, various militaria and related me
 morabilia. Due to the passage of the New Hampshire Knife Rights law in
  May 2010, we are now the ONLY state in America where there is no such
  thing as an \"illegal knife\". Come enjoy a quality show in The Last 
 Free State In America with NO SALES TAX!\n\nFor more information visit
  https://iknifecollector.com/events/manchester-knife-gun-show
DTSTART;TZID=America/Chicago:20130112T000000
DTEND;TZID=America/Chicago:20130113T235900
CATEGORIES:knife, show
LOCATION:Expo Center, Radisson Hotel
WEBSITE:http://www.classiccutleryusa.com/Merchant2/merchant.mvc?Screen
 =CTGY&Store_Code=CC&Category_Code=Shows
URL:http://www.classiccutleryusa.com/Merchant2/merchant.mvc?Screen=CTG
 Y&Store_Code=CC&Category_Code=Shows
CONTACT:
ORGANIZER;CN="Jan Carter":https://iknifecollector.com/profile/JanCarte
 r
ATTACH;FMTTYPE="image/jpeg":
ATTENDEE;ROLE=REQ-PARTICIPANT;PARTSTAT=ACCEPTED;RSVP=TRUE;CN="Jan Cart
 er":https://iknifecollector.com/profile/JanCarter
END:VEVENT
END:VCALENDAR
