BEGIN:VCALENDAR
PRODID:NingEventWidget-v1
VERSION:2.0
METHOD:PUBLISH
BEGIN:VTIMEZONE
TZID:America/Chicago
X-LIC-LOCATION:America/Chicago
BEGIN:DAYLIGHT
TZOFFSETFROM:-0600
TZOFFSETTO:-0500
TZNAME:CDT
DTSTART:19700308T020000
RRULE:FREQ=YEARLY;BYMONTH=3;BYDAY=2SU
END:DAYLIGHT
BEGIN:STANDARD
TZOFFSETFROM:-0500
TZOFFSETTO:-0600
TZNAME:CST
DTSTART:19701101T020000
RRULE:FREQ=YEARLY;BYMONTH=11;BYDAY=1SU
END:STANDARD
END:VTIMEZONE
BEGIN:VEVENT
UID:3181080:Event:1467025
DTSTAMP:20260423T183812Z
SUMMARY:MARLBORO, MA KNIFE SHOW
DESCRIPTION:\n\n\n\n\n\n\nFor more information visit https://iknifecol
 lector.com/events/marlboro-ma-knife-show-5
DTSTART;TZID=America/Chicago:20170312T000000
DTEND;TZID=America/Chicago:20170312T235900
CATEGORIES:knife, show
LOCATION:Marlboro, MA - Holiday Inn
WEBSITE:http://www.ncca.info/calendar.htm
URL:http://www.ncca.info/calendar.htm
CONTACT:
ORGANIZER;CN="Jan Carter":https://iknifecollector.com/profile/JanCarte
 r
ATTACH;FMTTYPE="image/jpeg":
ATTENDEE;ROLE=REQ-PARTICIPANT;PARTSTAT=ACCEPTED;RSVP=TRUE;CN="Paul S":
 https://iknifecollector.com/profile/PaulSatowski
END:VEVENT
END:VCALENDAR
