BEGIN:VCALENDAR
PRODID:NingEventWidget-v1
VERSION:2.0
METHOD:PUBLISH
BEGIN:VTIMEZONE
TZID:America/Chicago
X-LIC-LOCATION:America/Chicago
BEGIN:DAYLIGHT
TZOFFSETFROM:-0600
TZOFFSETTO:-0500
TZNAME:CDT
DTSTART:19700308T020000
RRULE:FREQ=YEARLY;BYMONTH=3;BYDAY=2SU
END:DAYLIGHT
BEGIN:STANDARD
TZOFFSETFROM:-0500
TZOFFSETTO:-0600
TZNAME:CST
DTSTART:19701101T020000
RRULE:FREQ=YEARLY;BYMONTH=11;BYDAY=1SU
END:STANDARD
END:VTIMEZONE
BEGIN:VEVENT
UID:3181080:Event:849637
DTSTAMP:20260422T165547Z
SUMMARY:Marv Kraus Promotions Gun and Kinfe Show in Sioux City, IA
DESCRIPTION:Come one, come all! Open to the public.\nBuy, sale or trad
 e! Bring extra cash!\nGuns, Kinves, Camping and Fishing supplies.\nOut
 door Fun Stuff!\n\nFor more information visit https://iknifecollector.
 com/events/marv-kraus-promotions-gun-and-kinfe-show-in-sioux-city-ia
DTSTART;TZID=America/Chicago:20130517T170000
DTEND;TZID=America/Chicago:20130519T150000
CATEGORIES:gun, and, knife, show
LOCATION:Sioux City Convention Center
WEBSITE:http://visitsiouxcity.org
URL:http://visitsiouxcity.org
CONTACT:(563)-608-4401
ORGANIZER:Bruce Piehl/ Doc's Knife Works
ATTACH;FMTTYPE="image/jpeg":http://storage.ning.com/topology/rest/1.0/
 file/get/2831384786?profile=original
ATTENDEE;ROLE=REQ-PARTICIPANT;PARTSTAT=ACCEPTED;RSVP=TRUE;CN="Bruce Pi
 ehl":https://iknifecollector.com/profile/brucepiehl
END:VEVENT
END:VCALENDAR
