BEGIN:VCALENDAR
PRODID:NingEventWidget-v1
VERSION:2.0
METHOD:PUBLISH
BEGIN:VTIMEZONE
TZID:America/Chicago
X-LIC-LOCATION:America/Chicago
BEGIN:DAYLIGHT
TZOFFSETFROM:-0600
TZOFFSETTO:-0500
TZNAME:CDT
DTSTART:19700308T020000
RRULE:FREQ=YEARLY;BYMONTH=3;BYDAY=2SU
END:DAYLIGHT
BEGIN:STANDARD
TZOFFSETFROM:-0500
TZOFFSETTO:-0600
TZNAME:CST
DTSTART:19701101T020000
RRULE:FREQ=YEARLY;BYMONTH=11;BYDAY=1SU
END:STANDARD
END:VTIMEZONE
BEGIN:VEVENT
UID:3181080:Event:856077
DTSTAMP:20260422T165925Z
SUMMARY:Marv Kraus Promotions Gun and Knife Show in Mt. Pleasant, IA
DESCRIPTION:Welcome to the public. Buy, Sale or Trade.\nAll day Friday
  9am-6pm\nAll day Saturday 9am-5pm\nsunday 9am-3pm\nDont forget the CA
 SH bring extra cash!\n\nFor more information visit https://iknifecolle
 ctor.com/events/marv-kraus-promotions-gun-and-knife-show-in-mt-pleasan
 t-ia
DTSTART;TZID=America/Chicago:20130524T090000
DTEND;TZID=America/Chicago:20130526T150000
CATEGORIES:gun, and, knife, show
LOCATION:McMillan Park (Antique Car Building)
WEBSITE:http://www.marvkrauspromotions.net/Calendar.html
URL:http://www.marvkrauspromotions.net/Calendar.html
CONTACT:(563)-608-4401
ORGANIZER:Bruce Piehl/ Doc's Knife Works
ATTACH;FMTTYPE="image/jpeg":http://storage.ning.com/topology/rest/1.0/
 file/get/2831387663?profile=original
ATTENDEE;ROLE=REQ-PARTICIPANT;PARTSTAT=ACCEPTED;RSVP=TRUE;CN="Bruce Pi
 ehl":https://iknifecollector.com/profile/brucepiehl
END:VEVENT
END:VCALENDAR
