BEGIN:VCALENDAR
PRODID:NingEventWidget-v1
VERSION:2.0
METHOD:PUBLISH
BEGIN:VTIMEZONE
TZID:America/Chicago
X-LIC-LOCATION:America/Chicago
BEGIN:DAYLIGHT
TZOFFSETFROM:-0600
TZOFFSETTO:-0500
TZNAME:CDT
DTSTART:19700308T020000
RRULE:FREQ=YEARLY;BYMONTH=3;BYDAY=2SU
END:DAYLIGHT
BEGIN:STANDARD
TZOFFSETFROM:-0500
TZOFFSETTO:-0600
TZNAME:CST
DTSTART:19701101T020000
RRULE:FREQ=YEARLY;BYMONTH=11;BYDAY=1SU
END:STANDARD
END:VTIMEZONE
BEGIN:VEVENT
UID:3181080:Event:1050856
DTSTAMP:20260424T200133Z
SUMMARY:MATAMORAS, PA Gun & Knife show
DESCRIPTION:Gun & Knife show\n\nFor more information visit https://ikn
 ifecollector.com/events/matamoras-pa-gun-knife-show
DTSTART;TZID=America/Chicago:20140118T090000
DTEND;TZID=America/Chicago:20140119T150000
CATEGORIES:gun, and, knife, show
LOCATION:MATAMORAS, PA
WEBSITE:http://users.erols.com/fasttrack/loc/mat/Matamoras.htm
URL:http://users.erols.com/fasttrack/loc/mat/Matamoras.htm
CONTACT:
ORGANIZER;CN="Greg Dash":https://iknifecollector.com/profile/GregDash
ATTACH;FMTTYPE="image/jpeg":
ATTENDEE;ROLE=REQ-PARTICIPANT;PARTSTAT=ACCEPTED;RSVP=TRUE;CN="Greg Das
 h":https://iknifecollector.com/profile/GregDash
END:VEVENT
END:VCALENDAR
