BEGIN:VCALENDAR
PRODID:NingEventWidget-v1
VERSION:2.0
METHOD:PUBLISH
BEGIN:VTIMEZONE
TZID:America/Chicago
X-LIC-LOCATION:America/Chicago
BEGIN:DAYLIGHT
TZOFFSETFROM:-0600
TZOFFSETTO:-0500
TZNAME:CDT
DTSTART:19700308T020000
RRULE:FREQ=YEARLY;BYMONTH=3;BYDAY=2SU
END:DAYLIGHT
BEGIN:STANDARD
TZOFFSETFROM:-0500
TZOFFSETTO:-0600
TZNAME:CST
DTSTART:19701101T020000
RRULE:FREQ=YEARLY;BYMONTH=11;BYDAY=1SU
END:STANDARD
END:VTIMEZONE
BEGIN:VEVENT
UID:3181080:Event:690388
DTSTAMP:20260422T210748Z
SUMMARY:Messer Macher Solingen (Knife Makers Solingen) show
DESCRIPTION:Knifeshow for the German Knifemakers guild\n\nFor more inf
 ormation visit https://iknifecollector.com/events/messer-macher-soling
 en-knife-makers-solingen-show
DTSTART;TZID=America/Chicago:20130504T100000
DTEND;TZID=America/Chicago:20130505T170000
CATEGORIES:knife, show
LOCATION:Deutsches Klingenmuseum Solingen Germany
WEBSITE:http://www.messer-macher-messe.de/mmm/de/home.html
URL:http://www.messer-macher-messe.de/mmm/de/home.html
CONTACT:
ORGANIZER:
ATTACH;FMTTYPE="image/jpeg":
ATTENDEE;ROLE=REQ-PARTICIPANT;PARTSTAT=TENTATIVE;RSVP=TRUE;CN="Alexand
 er Noot":https://iknifecollector.com/profile/AlexanderNoot
END:VEVENT
END:VCALENDAR
