BEGIN:VCALENDAR
PRODID:NingEventWidget-v1
VERSION:2.0
METHOD:PUBLISH
BEGIN:VTIMEZONE
TZID:America/Chicago
X-LIC-LOCATION:America/Chicago
BEGIN:DAYLIGHT
TZOFFSETFROM:-0600
TZOFFSETTO:-0500
TZNAME:CDT
DTSTART:19700308T020000
RRULE:FREQ=YEARLY;BYMONTH=3;BYDAY=2SU
END:DAYLIGHT
BEGIN:STANDARD
TZOFFSETFROM:-0500
TZOFFSETTO:-0600
TZNAME:CST
DTSTART:19701101T020000
RRULE:FREQ=YEARLY;BYMONTH=11;BYDAY=1SU
END:STANDARD
END:VTIMEZONE
BEGIN:VEVENT
UID:3181080:Event:11134
DTSTAMP:20260424T211904Z
SUMMARY:Mid America Bladesmithing Expo & Knife show
DESCRIPTION:Dr. Jim Batson puts on a really great sho In Troy, OH. The
  price is reasonable $55.00 for the whole weekend. Last year I learned
  so much my head hurt.\nSee the listed web page for the details.\nhttp
 ://www.americanbladesmith.com/pdf/Mid%20America%202009.pdf\nAdlai\n\nF
 or more information visit https://iknifecollector.com/events/mid-ameri
 ca-bladesmithing-expo
DTSTART;TZID=America/Chicago:20090828T200000
DTEND;TZID=America/Chicago:20090830T120000
CATEGORIES:bladesmithing, expo, "&", knife, show
LOCATION:Miami County Fair Grounds
WEBSITE:http://www.americanbladesmith.com/pdf/Mid%20America%202009.pdf
URL:http://www.americanbladesmith.com/pdf/Mid%20America%202009.pdf
CONTACT:
ORGANIZER:ABS & SOFA
ATTACH;FMTTYPE="image/jpeg":
ATTENDEE;ROLE=REQ-PARTICIPANT;PARTSTAT=ACCEPTED;RSVP=TRUE;CN="Adlai St
 ein":https://iknifecollector.com/profile/AdlaiStein
END:VEVENT
END:VCALENDAR
