BEGIN:VCALENDAR
PRODID:NingEventWidget-v1
VERSION:2.0
METHOD:PUBLISH
BEGIN:VTIMEZONE
TZID:America/Chicago
X-LIC-LOCATION:America/Chicago
BEGIN:DAYLIGHT
TZOFFSETFROM:-0600
TZOFFSETTO:-0500
TZNAME:CDT
DTSTART:19700308T020000
RRULE:FREQ=YEARLY;BYMONTH=3;BYDAY=2SU
END:DAYLIGHT
BEGIN:STANDARD
TZOFFSETFROM:-0500
TZOFFSETTO:-0600
TZNAME:CST
DTSTART:19701101T020000
RRULE:FREQ=YEARLY;BYMONTH=11;BYDAY=1SU
END:STANDARD
END:VTIMEZONE
BEGIN:VEVENT
UID:3181080:Event:1174736
DTSTAMP:20260420T105819Z
SUMMARY:Mid-America Bladesmithing Syposium
DESCRIPTION:Offered by the American Bladesmith Society, Inc.\nHosted b
 y the Southern Ohio Forge and Anvil Blacksmith Association\n\nFor more
  information visit https://iknifecollector.com/events/mid-america-blad
 esmithing-syposium
DTSTART;TZID=America/Chicago:20140822T000000
DTEND;TZID=America/Chicago:20140824T235900
CATEGORIES:hammer, in
LOCATION:Miami County Fairgrounds
WEBSITE:
URL:
CONTACT:
ORGANIZER;CN="Jan Carter":https://iknifecollector.com/profile/JanCarte
 r
ATTACH;FMTTYPE="image/jpeg":http://storage.ning.com/topology/rest/1.0/
 file/get/2655259279?profile=original
ATTENDEE;ROLE=REQ-PARTICIPANT;PARTSTAT=ACCEPTED;RSVP=TRUE;CN="Jan Cart
 er":https://iknifecollector.com/profile/JanCarter
END:VEVENT
END:VCALENDAR
