BEGIN:VCALENDAR
PRODID:NingEventWidget-v1
VERSION:2.0
METHOD:PUBLISH
BEGIN:VTIMEZONE
TZID:America/Chicago
X-LIC-LOCATION:America/Chicago
BEGIN:DAYLIGHT
TZOFFSETFROM:-0600
TZOFFSETTO:-0500
TZNAME:CDT
DTSTART:19700308T020000
RRULE:FREQ=YEARLY;BYMONTH=3;BYDAY=2SU
END:DAYLIGHT
BEGIN:STANDARD
TZOFFSETFROM:-0500
TZOFFSETTO:-0600
TZNAME:CST
DTSTART:19701101T020000
RRULE:FREQ=YEARLY;BYMONTH=11;BYDAY=1SU
END:STANDARD
END:VTIMEZONE
BEGIN:VEVENT
UID:3181080:Event:1453088
DTSTAMP:20260420T105934Z
SUMMARY:Mid America Hammer-In (Ohio)
DESCRIPTION:The schedules and demonstrations for each Hammer-In will b
 e posted by the Hammer-In Directors on the ABS Forum, click:  ABS Ham
 mer-Ins.\nYou may also contact the assigned Hammer-In Director by emai
 l or telephone for more information and they will assist you.\n\nFor m
 ore information visit https://iknifecollector.com/events/mid-america-h
 ammer-in-ohio
DTSTART;TZID=America/Chicago:20170825T000000
DTEND;TZID=America/Chicago:20170827T235900
CATEGORIES:hammer-in
LOCATION:Miami County Fairgrounds
WEBSITE:http://www.americanbladesmith.com/index.php?section=events&sub
 section=show_events_details&events_id=40
URL:http://www.americanbladesmith.com/index.php?section=events&subsect
 ion=show_events_details&events_id=40
CONTACT:
ORGANIZER;CN="Jan Carter":https://iknifecollector.com/profile/JanCarte
 r
ATTACH;FMTTYPE="image/jpeg":
END:VEVENT
END:VCALENDAR
