BEGIN:VCALENDAR
PRODID:NingEventWidget-v1
VERSION:2.0
METHOD:PUBLISH
BEGIN:VTIMEZONE
TZID:America/Chicago
X-LIC-LOCATION:America/Chicago
BEGIN:DAYLIGHT
TZOFFSETFROM:-0600
TZOFFSETTO:-0500
TZNAME:CDT
DTSTART:19700308T020000
RRULE:FREQ=YEARLY;BYMONTH=3;BYDAY=2SU
END:DAYLIGHT
BEGIN:STANDARD
TZOFFSETFROM:-0500
TZOFFSETTO:-0600
TZNAME:CST
DTSTART:19701101T020000
RRULE:FREQ=YEARLY;BYMONTH=11;BYDAY=1SU
END:STANDARD
END:VTIMEZONE
BEGIN:VEVENT
UID:3181080:Event:1595283
DTSTAMP:20260424T083732Z
SUMMARY:Mid-Atlantic Knifemakers Association - Meeting #2
DESCRIPTION:This is a brand new organization!  If you are a knifemake
 r, leatherworker, engraver, scrimshander or crafts-person related to t
 he discipline of knives, this may be for you.  This is not a knife sh
 ow and there are no sales.  A simple gathering to share knowledge, ga
 in some insight, show off and critique each others work.  Interested?
   Please contact Bryan W directly for further details.\n\nFor more in
 formation visit https://iknifecollector.com/events/mid-atlantic-knifem
 akers-association-meeting-2
DTSTART;TZID=America/Chicago:20190727T120000
DTEND;TZID=America/Chicago:20190727T160000
CATEGORIES:knifemaker, lunch, and, gathering
LOCATION:Central NJ
WEBSITE:
URL:
CONTACT:
ORGANIZER;CN="Bryan W":https://iknifecollector.com/profile/BryanW
ATTACH;FMTTYPE="image/jpeg":https://storage.ning.com/topology/rest/1.0
 /file/get/2630754330?profile=original
ATTENDEE;ROLE=REQ-PARTICIPANT;PARTSTAT=ACCEPTED;RSVP=TRUE;CN="Bryan W"
 :https://iknifecollector.com/profile/BryanW
END:VEVENT
END:VCALENDAR
