BEGIN:VCALENDAR
PRODID:NingEventWidget-v1
VERSION:2.0
METHOD:PUBLISH
BEGIN:VTIMEZONE
TZID:America/Chicago
X-LIC-LOCATION:America/Chicago
BEGIN:DAYLIGHT
TZOFFSETFROM:-0600
TZOFFSETTO:-0500
TZNAME:CDT
DTSTART:19700308T020000
RRULE:FREQ=YEARLY;BYMONTH=3;BYDAY=2SU
END:DAYLIGHT
BEGIN:STANDARD
TZOFFSETFROM:-0500
TZOFFSETTO:-0600
TZNAME:CST
DTSTART:19701101T020000
RRULE:FREQ=YEARLY;BYMONTH=11;BYDAY=1SU
END:STANDARD
END:VTIMEZONE
BEGIN:VEVENT
UID:3181080:Event:747206
DTSTAMP:20260423T205018Z
SUMMARY:Midwest Arms Collectors Gun and Knife Show in Waterloo, IA
DESCRIPTION:Midwest Arms Collectors is a family owned company with ove
 r 15-years of experience in managing and promoting gun shows. Midwest 
 Arms Collectors believes in serving our public and dealers.\n\n\n\nWha
 t you can find at one of Midwest Arms Collectors Gun and Knife Shows: 
 Guns of all kinds, shot guns, rifles and hand guns. Holsters, gun case
 s, gun parts, manuals, ammo and reloading equipment. Modern and custom
  knives, military items, camouflage, hunting gear and many more with a
  wide selection of affordable prices.\n\n\nYou must be 18-years old or
  older to enter a gun and knife show, or accompanied by a parent or le
 gal guardian. You must be 21-years old or older to purchase, sell or h
 andle a hand gun and 18-years old or older to purchase, sell or handle
  a rifle or shot gun.\n\n\n\n\n\nFor more information visit https://ik
 nifecollector.com/events/midwest-arms-collectors-gun-and-knife-show-in
 -waterloo-ia
DTSTART;TZID=America/Chicago:20121228T170000
DTEND;TZID=America/Chicago:20121230T150000
CATEGORIES:gun, and, knife, show
LOCATION:Waterloo National Cattle Congress, McElroy Auditorium
WEBSITE:http://macshows.com/
URL:http://macshows.com/
CONTACT:660-341-7908
ORGANIZER:Bruce Piehl/ Doc's Knife Works
ATTACH;FMTTYPE="image/jpeg":http://storage.ning.com/topology/rest/1.0/
 file/get/2831359093?profile=original
ATTENDEE;ROLE=REQ-PARTICIPANT;PARTSTAT=ACCEPTED;RSVP=TRUE;CN="Bruce Pi
 ehl":https://iknifecollector.com/profile/brucepiehl
END:VEVENT
END:VCALENDAR
