BEGIN:VCALENDAR
PRODID:NingEventWidget-v1
VERSION:2.0
METHOD:PUBLISH
BEGIN:VTIMEZONE
TZID:America/Chicago
X-LIC-LOCATION:America/Chicago
BEGIN:DAYLIGHT
TZOFFSETFROM:-0600
TZOFFSETTO:-0500
TZNAME:CDT
DTSTART:19700308T020000
RRULE:FREQ=YEARLY;BYMONTH=3;BYDAY=2SU
END:DAYLIGHT
BEGIN:STANDARD
TZOFFSETFROM:-0500
TZOFFSETTO:-0600
TZNAME:CST
DTSTART:19701101T020000
RRULE:FREQ=YEARLY;BYMONTH=11;BYDAY=1SU
END:STANDARD
END:VTIMEZONE
BEGIN:VEVENT
UID:3181080:Event:562109
DTSTAMP:20260422T071039Z
SUMMARY:Missouri Gun & Knife Show
DESCRIPTION:Welcome to the Missouri Gun & Knife Show website!\n   D
 ue to the overwhelming success of our last show, we have decided to ho
 ld the next one in the same location—The Show-Me Center in Cape Gira
 rdeau, Missouri. The Show-Me Center is a spacious, clean facility that
  boasts a well-organized floor and an easily accessible location. It h
 as large bay loading doors accessible to vehicles, and a huge main flo
 or with overhanging balconies.\n   Cape Girardeau is the hub of a l
 arge group of surrounding towns. Located on the Mississippi River, it 
 is within two hours of several major cities. The location and large bu
 sinesses in this town bring in over 100,000 people daily. This area ha
 s a small town atmosphere and the economy here is booming, despite the
  state of the nation.\n   It is our anticipation that the Gun & Kni
 fe show will be an outstanding event, the best show in the heart of Am
 erica. I look forward to seeing you there.\n\nFor more information vis
 it https://iknifecollector.com/events/missouri-gun-knife-show
DTSTART;TZID=America/Chicago:20120309T000000
DTEND;TZID=America/Chicago:20120311T235900
CATEGORIES:gun, "&", knife, show
LOCATION:The Show Me Center
WEBSITE:http://www.mogunshow.com/index.html
URL:http://www.mogunshow.com/index.html
CONTACT:
ORGANIZER:
ATTACH;FMTTYPE="image/jpeg":
ATTENDEE;ROLE=REQ-PARTICIPANT;PARTSTAT=ACCEPTED;RSVP=TRUE;CN="Jan Cart
 er":https://iknifecollector.com/profile/JanCarter
END:VEVENT
END:VCALENDAR
