BEGIN:VCALENDAR
PRODID:NingEventWidget-v1
VERSION:2.0
METHOD:PUBLISH
BEGIN:VTIMEZONE
TZID:America/Chicago
X-LIC-LOCATION:America/Chicago
BEGIN:DAYLIGHT
TZOFFSETFROM:-0600
TZOFFSETTO:-0500
TZNAME:CDT
DTSTART:19700308T020000
RRULE:FREQ=YEARLY;BYMONTH=3;BYDAY=2SU
END:DAYLIGHT
BEGIN:STANDARD
TZOFFSETFROM:-0500
TZOFFSETTO:-0600
TZNAME:CST
DTSTART:19701101T020000
RRULE:FREQ=YEARLY;BYMONTH=11;BYDAY=1SU
END:STANDARD
END:VTIMEZONE
BEGIN:VEVENT
UID:3181080:Event:1426350
DTSTAMP:20260424T045714Z
SUMMARY:MKA 21st Annual Custom Knife Show & Sale
DESCRIPTION:\nFREE ADMISSION TO THE PUBLIC !!!\n\n\n\nKnife Collection
 s - Large & SmallKnife Making DemonstrationsCustom Made Knives for Sal
 e1000's of Knives on DisplayWork Knives to Fantasy KnivesDoor Prizes &
  Daily Drawings\n\n\n\n\n\n\n\n\n\nFor more information visit https://
 iknifecollector.com/events/mka-21st-annual-custom-knife-show-sale
DTSTART;TZID=America/Chicago:20160806T000000
DTEND;TZID=America/Chicago:20160807T235900
CATEGORIES:custom, knife, show, "&", sale
LOCATION:Grizzly Harley Davidson
WEBSITE:http://www.mtknifemakers.net/Show.html
URL:http://www.mtknifemakers.net/Show.html
CONTACT:
ORGANIZER;CN="Jan Carter":https://iknifecollector.com/profile/JanCarte
 r
ATTACH;FMTTYPE="image/jpeg":
END:VEVENT
END:VCALENDAR
