BEGIN:VCALENDAR
PRODID:NingEventWidget-v1
VERSION:2.0
METHOD:PUBLISH
BEGIN:VTIMEZONE
TZID:America/Chicago
X-LIC-LOCATION:America/Chicago
BEGIN:DAYLIGHT
TZOFFSETFROM:-0600
TZOFFSETTO:-0500
TZNAME:CDT
DTSTART:19700308T020000
RRULE:FREQ=YEARLY;BYMONTH=3;BYDAY=2SU
END:DAYLIGHT
BEGIN:STANDARD
TZOFFSETFROM:-0500
TZOFFSETTO:-0600
TZNAME:CST
DTSTART:19701101T020000
RRULE:FREQ=YEARLY;BYMONTH=11;BYDAY=1SU
END:STANDARD
END:VTIMEZONE
BEGIN:VEVENT
UID:3181080:Event:1174649
DTSTAMP:20260420T162930Z
SUMMARY:Montana KnifeMakers 19th Annual Custom Knife Show & Sale
DESCRIPTION:Knife Collections - Large & SmallKnife Making Demonstratio
 nsCustom Made Knives for Sale1000's of Knives on DisplayWork Knives to
  Fantasy KnivesDoor Prizes & Daily Drawings\n\nFor more information vi
 sit https://iknifecollector.com/events/montana-knifemakers-19th-annual
 -custom-knife-show-sale
DTSTART;TZID=America/Chicago:20140808T000000
DTEND;TZID=America/Chicago:20140810T235900
CATEGORIES:custom, knife, show, "&", sale
LOCATION:Grizzly Harley Davidson
WEBSITE:http://www.mtknifemakers.net/Show.html
URL:http://www.mtknifemakers.net/Show.html
CONTACT:
ORGANIZER;CN="Jan Carter":https://iknifecollector.com/profile/JanCarte
 r
ATTACH;FMTTYPE="image/jpeg":
ATTENDEE;ROLE=REQ-PARTICIPANT;PARTSTAT=ACCEPTED;RSVP=TRUE;CN="Jan Cart
 er":https://iknifecollector.com/profile/JanCarter
END:VEVENT
END:VCALENDAR
