BEGIN:VCALENDAR
PRODID:NingEventWidget-v1
VERSION:2.0
METHOD:PUBLISH
BEGIN:VTIMEZONE
TZID:America/Chicago
X-LIC-LOCATION:America/Chicago
BEGIN:DAYLIGHT
TZOFFSETFROM:-0600
TZOFFSETTO:-0500
TZNAME:CDT
DTSTART:19700308T020000
RRULE:FREQ=YEARLY;BYMONTH=3;BYDAY=2SU
END:DAYLIGHT
BEGIN:STANDARD
TZOFFSETFROM:-0500
TZOFFSETTO:-0600
TZNAME:CST
DTSTART:19701101T020000
RRULE:FREQ=YEARLY;BYMONTH=11;BYDAY=1SU
END:STANDARD
END:VTIMEZONE
BEGIN:VEVENT
UID:3181080:Event:675977
DTSTAMP:20260424T033518Z
SUMMARY:NATIONAL GUN DAY
DESCRIPTION:Dec. 8, 9, 2012 THE GREAT EASTERN1650 tables Gun & JAG Mil
 itary\n\nFor more information visit https://iknifecollector.com/events
 /national-gun-day
DTSTART;TZID=America/Chicago:20121208T000000
DTEND;TZID=America/Chicago:20121209T235900
CATEGORIES:gun, "&", jag, military
LOCATION:Kentucky Fair & Expo Center: Louisville, Kentucky
WEBSITE:http://www.nationalgunday.com/when%20national%20gun%20day%20gu
 n%20shows%20calendar%20of%20dates.htm
URL:http://www.nationalgunday.com/when%20national%20gun%20day%20gun%20
 shows%20calendar%20of%20dates.htm
CONTACT:
ORGANIZER;CN="Jan Carter":https://iknifecollector.com/profile/JanCarte
 r
ATTACH;FMTTYPE="image/jpeg":
ATTENDEE;ROLE=REQ-PARTICIPANT;PARTSTAT=ACCEPTED;RSVP=TRUE;CN="Jan Cart
 er":https://iknifecollector.com/profile/JanCarter
END:VEVENT
END:VCALENDAR
