BEGIN:VCALENDAR
PRODID:NingEventWidget-v1
VERSION:2.0
METHOD:PUBLISH
BEGIN:VTIMEZONE
TZID:America/Chicago
X-LIC-LOCATION:America/Chicago
BEGIN:DAYLIGHT
TZOFFSETFROM:-0600
TZOFFSETTO:-0500
TZNAME:CDT
DTSTART:19700308T020000
RRULE:FREQ=YEARLY;BYMONTH=3;BYDAY=2SU
END:DAYLIGHT
BEGIN:STANDARD
TZOFFSETFROM:-0500
TZOFFSETTO:-0600
TZNAME:CST
DTSTART:19701101T020000
RRULE:FREQ=YEARLY;BYMONTH=11;BYDAY=1SU
END:STANDARD
END:VTIMEZONE
BEGIN:VEVENT
UID:3181080:Event:37950
DTSTAMP:20260424T083657Z
SUMMARY:National Knife Collectors Asso Fall Kentucky Show
DESCRIPTION:Check times at the Association's website\n\n\nFor more inf
 ormation visit https://iknifecollector.com/events/national-knife-colle
 ctors-asso
DTSTART;TZID=America/Chicago:20091002T000000
DTEND;TZID=America/Chicago:20091004T235900
CATEGORIES:"knife show"
LOCATION:Holiday Inn
WEBSITE:http://www.nkcaknife.org
URL:http://www.nkcaknife.org
CONTACT:
ORGANIZER:NKCA
ATTACH;FMTTYPE="image/jpeg":http://storage.ning.com/topology/rest/1.0/
 file/get/2831230850?profile=original
ATTENDEE;ROLE=REQ-PARTICIPANT;PARTSTAT=ACCEPTED;RSVP=TRUE;CN="Lloyd Sh
 oemaker":https://iknifecollector.com/profile/LloydShoemaker
ATTENDEE;ROLE=REQ-PARTICIPANT;PARTSTAT=ACCEPTED;RSVP=TRUE;CN="Chris Ta
 ylor (CTAYLORMAN)":https://iknifecollector.com/profile/ChrisTaylor
ATTENDEE;ROLE=REQ-PARTICIPANT;PARTSTAT=ACCEPTED;RSVP=TRUE;CN="Scott Ki
 ng":https://iknifecollector.com/profile/scottking
END:VEVENT
END:VCALENDAR
