BEGIN:VCALENDAR
PRODID:NingEventWidget-v1
VERSION:2.0
METHOD:PUBLISH
BEGIN:VTIMEZONE
TZID:America/Chicago
X-LIC-LOCATION:America/Chicago
BEGIN:DAYLIGHT
TZOFFSETFROM:-0600
TZOFFSETTO:-0500
TZNAME:CDT
DTSTART:19700308T020000
RRULE:FREQ=YEARLY;BYMONTH=3;BYDAY=2SU
END:DAYLIGHT
BEGIN:STANDARD
TZOFFSETFROM:-0500
TZOFFSETTO:-0600
TZNAME:CST
DTSTART:19701101T020000
RRULE:FREQ=YEARLY;BYMONTH=11;BYDAY=1SU
END:STANDARD
END:VTIMEZONE
BEGIN:VEVENT
UID:3181080:Event:1308125
DTSTAMP:20260423T172330Z
SUMMARY:NATIONAL KNIFE DAY
DESCRIPTION:Knife Day is the day to appreciate the knives that folk us
 e on a daily basis. This day is a celebration of this marvellous tool 
 that has been with humans since the dawn of time. The evolution of kni
 ves has been a remarkable feat – from knives made of bone, stone and
  flint, to modern creations using titanium, bronze, iron and steel. No
 body can deny the knife is one of man’s most useful tools – for co
 oking, eating, fishing, hunting, and not to forget the oh so handy Swi
 ss Army knife. To make the most of Knife Day, why not test your knife 
 chopping skills in the kitchen, or buy that knife set you’ve always 
 wanted. Invite family and friends over to compare and swap knives, or 
 get together to clean and sharpen your knives. Then there’s nothing 
 like having a cake and enjoying a slice by the knife. And instead of w
 ishing one another to have a nice day, why not just say: “Have a kni
 fe day!”\n\nFor more information visit https://iknifecollector.com/e
 vents/national-knife-day
DTSTART;TZID=America/Chicago:20150824T000000
DTEND;TZID=America/Chicago:20150824T235900
CATEGORIES:national, knife, day
LOCATION:ANYWHERE YOU ARE
WEBSITE:https://www.daysoftheyear.com/days/knife-day/
URL:https://www.daysoftheyear.com/days/knife-day/
CONTACT:
ORGANIZER;CN="Jan Carter":https://iknifecollector.com/profile/JanCarte
 r
ATTACH;FMTTYPE="image/jpeg":http://storage.ning.com/topology/rest/1.0/
 file/get/2770462519?profile=original
ATTENDEE;ROLE=REQ-PARTICIPANT;PARTSTAT=ACCEPTED;RSVP=TRUE;CN="Leopold 
 Lacrimosa":https://iknifecollector.com/profile/LeopoldLacrimosa
ATTENDEE;ROLE=REQ-PARTICIPANT;PARTSTAT=ACCEPTED;RSVP=TRUE;CN="John Kel
 logg":https://iknifecollector.com/profile/JohnKellogg
ATTENDEE;ROLE=REQ-PARTICIPANT;PARTSTAT=ACCEPTED;RSVP=TRUE;CN=dead_left
 _knife_guy:https://iknifecollector.com/profile/deadleftknifeguy
ATTENDEE;ROLE=REQ-PARTICIPANT;PARTSTAT=ACCEPTED;RSVP=TRUE;CN="John Bam
 ford":https://iknifecollector.com/profile/JohnBamford
ATTENDEE;ROLE=REQ-PARTICIPANT;PARTSTAT=ACCEPTED;RSVP=TRUE;CN="Charles 
 Sample":https://iknifecollector.com/profile/CharlesSample
ATTENDEE;ROLE=REQ-PARTICIPANT;PARTSTAT=ACCEPTED;RSVP=TRUE;CN="Patti Ol
 sen":https://iknifecollector.com/profile/PattiOlsen
ATTENDEE;ROLE=REQ-PARTICIPANT;PARTSTAT=ACCEPTED;RSVP=TRUE;CN="J.J. Smi
 th III":https://iknifecollector.com/profile/JohnJSmithIII
ATTENDEE;ROLE=REQ-PARTICIPANT;PARTSTAT=ACCEPTED;RSVP=TRUE;CN="Steve Sc
 heuerman (Manx)":https://iknifecollector.com/profile/SteveScheuerman
ATTENDEE;ROLE=REQ-PARTICIPANT;PARTSTAT=ACCEPTED;RSVP=TRUE;CN="Tracey R
 eed":https://iknifecollector.com/profile/TraceyReed
ATTENDEE;ROLE=REQ-PARTICIPANT;PARTSTAT=ACCEPTED;RSVP=TRUE;CN="Jan Cart
 er":https://iknifecollector.com/profile/JanCarter
END:VEVENT
END:VCALENDAR
