BEGIN:VCALENDAR
PRODID:NingEventWidget-v1
VERSION:2.0
METHOD:PUBLISH
BEGIN:VTIMEZONE
TZID:America/Chicago
X-LIC-LOCATION:America/Chicago
BEGIN:DAYLIGHT
TZOFFSETFROM:-0600
TZOFFSETTO:-0500
TZNAME:CDT
DTSTART:19700308T020000
RRULE:FREQ=YEARLY;BYMONTH=3;BYDAY=2SU
END:DAYLIGHT
BEGIN:STANDARD
TZOFFSETFROM:-0500
TZOFFSETTO:-0600
TZNAME:CST
DTSTART:19701101T020000
RRULE:FREQ=YEARLY;BYMONTH=11;BYDAY=1SU
END:STANDARD
END:VTIMEZONE
BEGIN:VEVENT
UID:3181080:Event:1020300
DTSTAMP:20260424T144836Z
SUMMARY:National Knife Museum Professional tours
DESCRIPTION:Bruce Voyles will be guiding Tours after the Parkers' Gre
 atest Knife Show On Earth on Saturday December 14, 2013\n\nGet the gu
 ided tour with special question and answer time with Bruce Voyles\n\nF
 or more information visit https://iknifecollector.com/events/national-
 knife-museum-professional-tours
DTSTART;TZID=America/Chicago:20131214T153000
DTEND;TZID=America/Chicago:20131214T180000
CATEGORIES:guided, tour, with, special, question, and, answer, time, b
 ruce, voyles
LOCATION:The Upper Floor at Smoky Mountain Knife Works
WEBSITE:
URL:
CONTACT:
ORGANIZER;CN="Jan Carter":https://iknifecollector.com/profile/JanCarte
 r
ATTACH;FMTTYPE="image/jpeg":http://storage.ning.com/topology/rest/1.0/
 file/get/2831428647?profile=original
ATTENDEE;ROLE=REQ-PARTICIPANT;PARTSTAT=ACCEPTED;RSVP=TRUE;CN="Charles 
 Reed":https://iknifecollector.com/profile/CharlesReed
ATTENDEE;ROLE=REQ-PARTICIPANT;PARTSTAT=TENTATIVE;RSVP=TRUE;CN="Mike An
 derson":https://iknifecollector.com/profile/MichaelLeeAnderson
END:VEVENT
END:VCALENDAR
