BEGIN:VCALENDAR
PRODID:NingEventWidget-v1
VERSION:2.0
METHOD:PUBLISH
BEGIN:VTIMEZONE
TZID:America/Chicago
X-LIC-LOCATION:America/Chicago
BEGIN:DAYLIGHT
TZOFFSETFROM:-0600
TZOFFSETTO:-0500
TZNAME:CDT
DTSTART:19700308T020000
RRULE:FREQ=YEARLY;BYMONTH=3;BYDAY=2SU
END:DAYLIGHT
BEGIN:STANDARD
TZOFFSETFROM:-0500
TZOFFSETTO:-0600
TZNAME:CST
DTSTART:19701101T020000
RRULE:FREQ=YEARLY;BYMONTH=11;BYDAY=1SU
END:STANDARD
END:VTIMEZONE
BEGIN:VEVENT
UID:3181080:Event:1401268
DTSTAMP:20260424T084013Z
SUMMARY:NATIONAL PIKE KNIFE CLUB ANNUAL KNIFE & GUN SHOW
DESCRIPTION:\n\nFor more information visit https://iknifecollector.com
 /events/national-pike-knife-club-annual-knife-gun-show
DTSTART;TZID=America/Chicago:20160416T090000
DTEND;TZID=America/Chicago:20160416T150000
CATEGORIES:collectors, show
LOCATION:J. B. Martin Recreation Center / Old Belmont County Fairgroun
 ds
WEBSITE:
URL:
CONTACT:740-425-4484
ORGANIZER:Joe Miller / Gary Lucas
ATTACH;FMTTYPE="image/jpeg":
ATTENDEE;ROLE=REQ-PARTICIPANT;PARTSTAT=ACCEPTED;RSVP=TRUE;CN="Joe Mill
 er":https://iknifecollector.com/profile/JoeMiller
END:VEVENT
END:VCALENDAR
