BEGIN:VCALENDAR
PRODID:NingEventWidget-v1
VERSION:2.0
METHOD:PUBLISH
BEGIN:VTIMEZONE
TZID:America/Chicago
X-LIC-LOCATION:America/Chicago
BEGIN:DAYLIGHT
TZOFFSETFROM:-0600
TZOFFSETTO:-0500
TZNAME:CDT
DTSTART:19700308T020000
RRULE:FREQ=YEARLY;BYMONTH=3;BYDAY=2SU
END:DAYLIGHT
BEGIN:STANDARD
TZOFFSETFROM:-0500
TZOFFSETTO:-0600
TZNAME:CST
DTSTART:19701101T020000
RRULE:FREQ=YEARLY;BYMONTH=11;BYDAY=1SU
END:STANDARD
END:VTIMEZONE
BEGIN:VEVENT
UID:3181080:Event:810291
DTSTAMP:20260422T201012Z
SUMMARY:National Pike Knife Collectors Club Annual Knife & Gun Collect
 ors Show
DESCRIPTION:National Pike Knife Collectors Club Annual Knife & Gun Col
 lectors Show\nJ.B. Martin Center, St. Clairsville, Oh 43950\nIf anyone
  is interested in renting a table ($20.00 for an 8 ft. table) please c
 all Jim at 740-757-2503, Bob at 740-757-2540 or Jerry at 740-310-2514.
 \n\nFor more information visit https://iknifecollector.com/events/nati
 onal-pike-knife-collectors-club-annual-knife-gun-collectors-1
DTSTART;TZID=America/Chicago:20130420T090000
DTEND;TZID=America/Chicago:20130420T150000
CATEGORIES:annual, knife, "&", gun, collectors, show
LOCATION:J.B. Martin Recreation Center
WEBSITE:
URL:
CONTACT:740.757.2503
ORGANIZER;CN="Joe Miller":https://iknifecollector.com/profile/JoeMille
 r
ATTACH;FMTTYPE="image/jpeg":http://storage.ning.com/topology/rest/1.0/
 file/get/2831374595?profile=original
ATTENDEE;ROLE=REQ-PARTICIPANT;PARTSTAT=ACCEPTED;RSVP=TRUE;CN="Joe Mill
 er":https://iknifecollector.com/profile/JoeMiller
END:VEVENT
END:VCALENDAR
