BEGIN:VCALENDAR
PRODID:NingEventWidget-v1
VERSION:2.0
METHOD:PUBLISH
BEGIN:VTIMEZONE
TZID:America/Chicago
X-LIC-LOCATION:America/Chicago
BEGIN:DAYLIGHT
TZOFFSETFROM:-0600
TZOFFSETTO:-0500
TZNAME:CDT
DTSTART:19700308T020000
RRULE:FREQ=YEARLY;BYMONTH=3;BYDAY=2SU
END:DAYLIGHT
BEGIN:STANDARD
TZOFFSETFROM:-0500
TZOFFSETTO:-0600
TZNAME:CST
DTSTART:19701101T020000
RRULE:FREQ=YEARLY;BYMONTH=11;BYDAY=1SU
END:STANDARD
END:VTIMEZONE
BEGIN:VEVENT
UID:3181080:Event:761835
DTSTAMP:20260422T221740Z
SUMMARY:NCCA 31st. Annual NCCA Extravaganza Knife Show
DESCRIPTION:83 TABLES - CUSTOM, ANTIQUE AND FACTORYKNIVES, SCRIMSHAW,
  MILITARY KNIVES, BOWIE KNIVES, RAZORS AND RELATED CUTLERY ITEMS. MANY
  HISTORICAL DISPLAYSBRING THE ENTIRE FAMILY...\n\nFor more information
  visit https://iknifecollector.com/events/ncca-31st-annual-ncca-extrav
 aganza-knife-show
DTSTART;TZID=America/Chicago:20130427T000000
DTEND;TZID=America/Chicago:20130428T235900
CATEGORIES:knife, show
LOCATION:Mystic, CT - Hilton
WEBSITE:http://www.ncca.info/calendar.htm
URL:http://www.ncca.info/calendar.htm
CONTACT:
ORGANIZER;CN="Jan Carter":https://iknifecollector.com/profile/JanCarte
 r
ATTACH;FMTTYPE="image/jpeg":
ATTENDEE;ROLE=REQ-PARTICIPANT;PARTSTAT=ACCEPTED;RSVP=TRUE;CN="Greg Das
 h":https://iknifecollector.com/profile/GregDash
ATTENDEE;ROLE=REQ-PARTICIPANT;PARTSTAT=ACCEPTED;RSVP=TRUE;CN="Jan Cart
 er":https://iknifecollector.com/profile/JanCarter
END:VEVENT
END:VCALENDAR
