BEGIN:VCALENDAR
PRODID:NingEventWidget-v1
VERSION:2.0
METHOD:PUBLISH
BEGIN:VTIMEZONE
TZID:America/Chicago
X-LIC-LOCATION:America/Chicago
BEGIN:DAYLIGHT
TZOFFSETFROM:-0600
TZOFFSETTO:-0500
TZNAME:CDT
DTSTART:19700308T020000
RRULE:FREQ=YEARLY;BYMONTH=3;BYDAY=2SU
END:DAYLIGHT
BEGIN:STANDARD
TZOFFSETFROM:-0500
TZOFFSETTO:-0600
TZNAME:CST
DTSTART:19701101T020000
RRULE:FREQ=YEARLY;BYMONTH=11;BYDAY=1SU
END:STANDARD
END:VTIMEZONE
BEGIN:VEVENT
UID:3181080:Event:1384827
DTSTAMP:20260424T061606Z
SUMMARY:NCCA 34th. Annual NCCA Extravaganza Knife Show
DESCRIPTION:THE BEST KNIVES.\n83 TABLES - CUSTOM, ANTIQUE AND FACTORY
 KNIVES, SCRIMSHAW, MILITARY KNIVES, BOWIE KNIVES, RAZORS AND RELATED C
 UTLERY ITEMS. MANY HISTORICAL DISPLAYSBRING THE ENTIRE FAMILY...Also e
 njoy a visit to: OLD MYSTIC SEAPORTFAMOUS MYSTICAQUARIUM, AND PLENTY
  OF FUN &SHOPPING FOR THEWHOLE FAMILY!\n\nFor more information visit h
 ttps://iknifecollector.com/events/ncca-34th-annual-ncca-extravaganza-k
 nife-show
DTSTART;TZID=America/Chicago:20160430T180000
DTEND;TZID=America/Chicago:20160501T190000
CATEGORIES:knife, show
LOCATION:HILTON MYSTIC CT
WEBSITE:http://www.ncca.info/annualknifeshow.htm
URL:http://www.ncca.info/annualknifeshow.htm
CONTACT:
ORGANIZER;CN="Jan Carter":https://iknifecollector.com/profile/JanCarte
 r
ATTACH;FMTTYPE="image/jpeg":
ATTENDEE;ROLE=REQ-PARTICIPANT;PARTSTAT=TENTATIVE;RSVP=TRUE;CN="Michell
 e \"Fingers\" DellaPelle":https://iknifecollector.com/profile/Michelle
 DellaPelle
END:VEVENT
END:VCALENDAR
