BEGIN:VCALENDAR
PRODID:NingEventWidget-v1
VERSION:2.0
METHOD:PUBLISH
BEGIN:VTIMEZONE
TZID:America/Chicago
X-LIC-LOCATION:America/Chicago
BEGIN:DAYLIGHT
TZOFFSETFROM:-0600
TZOFFSETTO:-0500
TZNAME:CDT
DTSTART:19700308T020000
RRULE:FREQ=YEARLY;BYMONTH=3;BYDAY=2SU
END:DAYLIGHT
BEGIN:STANDARD
TZOFFSETFROM:-0500
TZOFFSETTO:-0600
TZNAME:CST
DTSTART:19701101T020000
RRULE:FREQ=YEARLY;BYMONTH=11;BYDAY=1SU
END:STANDARD
END:VTIMEZONE
BEGIN:VEVENT
UID:3181080:Event:492317
DTSTAMP:20260424T111502Z
SUMMARY:NCCA Marlboro MA Knife Show
DESCRIPTION:NCCA Knife ShowSunday, November 13th 2011Marlboro, MA – 
 Holiday Inn (508) 481-3000\nI-495 exit 24A. Show hours 9:am - 3pmTable
  reservations & info, contact: Linda Cain (978) 544-5348e-mail: lndcai
 n1@aol.com\n\nFor more information visit https://iknifecollector.com/e
 vents/ncca-marlboro-ma-knife-show
DTSTART;TZID=America/Chicago:20111113T000000
DTEND;TZID=America/Chicago:20111113T235900
CATEGORIES:knife, show
LOCATION:Marlboro, MA – Holiday Inn
WEBSITE:
URL:
CONTACT:(978) 544-5348
ORGANIZER:Linda Cain
ATTACH;FMTTYPE="image/jpeg":
ATTENDEE;ROLE=REQ-PARTICIPANT;PARTSTAT=ACCEPTED;RSVP=TRUE;CN="Jan Cart
 er":https://iknifecollector.com/profile/JanCarter
END:VEVENT
END:VCALENDAR
