BEGIN:VCALENDAR
PRODID:NingEventWidget-v1
VERSION:2.0
METHOD:PUBLISH
BEGIN:VTIMEZONE
TZID:America/Chicago
X-LIC-LOCATION:America/Chicago
BEGIN:DAYLIGHT
TZOFFSETFROM:-0600
TZOFFSETTO:-0500
TZNAME:CDT
DTSTART:19700308T020000
RRULE:FREQ=YEARLY;BYMONTH=3;BYDAY=2SU
END:DAYLIGHT
BEGIN:STANDARD
TZOFFSETFROM:-0500
TZOFFSETTO:-0600
TZNAME:CST
DTSTART:19701101T020000
RRULE:FREQ=YEARLY;BYMONTH=11;BYDAY=1SU
END:STANDARD
END:VTIMEZONE
BEGIN:VEVENT
UID:3181080:Event:850502
DTSTAMP:20260422T190259Z
SUMMARY:New England Hammer-In
DESCRIPTION: The American Bladesmith Society is a non profit educatio
 nal organization and sponsors Hammer-Ins in many regions of the count
 ry each year. During 2013 the American Bladesmith Society is sponsori
 ng Hammer-Ins in Maine, North Carolina, Ohio, Kansas, Arkansas, Tenne
 ssee, and California.\n   The 2013 ABS schedule is listed below wit
 h the ABS Coordinators for each event. The details for each event wi
 ll be posted as they become available. We look forward to seeing you
  at one of our ABS Hammer-Ins in 2013! \n\nFor more information visit
  https://iknifecollector.com/events/new-england-hammer-in-1
DTSTART;TZID=America/Chicago:20130511T180000
DTEND;TZID=America/Chicago:20130511T190000
CATEGORIES:hammer, in
LOCATION:New England School of Metalwork, Auburn, Maine
WEBSITE:http://www.americanbladesmith.com/index.php?section=events&sub
 section=show_events_details&events_id=40
URL:http://www.americanbladesmith.com/index.php?section=events&subsect
 ion=show_events_details&events_id=40
CONTACT:
ORGANIZER;CN="Jan Carter":https://iknifecollector.com/profile/JanCarte
 r
ATTACH;FMTTYPE="image/jpeg":
ATTENDEE;ROLE=REQ-PARTICIPANT;PARTSTAT=ACCEPTED;RSVP=TRUE;CN="Jan Cart
 er":https://iknifecollector.com/profile/JanCarter
END:VEVENT
END:VCALENDAR
