BEGIN:VCALENDAR
PRODID:NingEventWidget-v1
VERSION:2.0
METHOD:PUBLISH
BEGIN:VTIMEZONE
TZID:America/Chicago
X-LIC-LOCATION:America/Chicago
BEGIN:DAYLIGHT
TZOFFSETFROM:-0600
TZOFFSETTO:-0500
TZNAME:CDT
DTSTART:19700308T020000
RRULE:FREQ=YEARLY;BYMONTH=3;BYDAY=2SU
END:DAYLIGHT
BEGIN:STANDARD
TZOFFSETFROM:-0500
TZOFFSETTO:-0600
TZNAME:CST
DTSTART:19701101T020000
RRULE:FREQ=YEARLY;BYMONTH=11;BYDAY=1SU
END:STANDARD
END:VTIMEZONE
BEGIN:VEVENT
UID:3181080:Event:1453149
DTSTAMP:20260420T192434Z
SUMMARY:New England Hammer-In (Maine)
DESCRIPTION:Offered by the American Bladesmith Society, Inc.\n\nFor mo
 re information visit https://iknifecollector.com/events/new-england-ha
 mmer-in-maine
DTSTART;TZID=America/Chicago:20170714T000000
DTEND;TZID=America/Chicago:20170717T235900
CATEGORIES:hammer-in
LOCATION:New England School of Metalwork, Auburn, Maine
WEBSITE:http://www.americanbladesmith.com/index.php?section=events&sub
 section=show_events_details&events_id=40
URL:http://www.americanbladesmith.com/index.php?section=events&subsect
 ion=show_events_details&events_id=40
CONTACT:
ORGANIZER;CN="Jan Carter":https://iknifecollector.com/profile/JanCarte
 r
ATTACH;FMTTYPE="image/jpeg":http://storage.ning.com/topology/rest/1.0/
 file/get/2831493636?profile=original
END:VEVENT
END:VCALENDAR
