BEGIN:VCALENDAR
PRODID:NingEventWidget-v1
VERSION:2.0
METHOD:PUBLISH
BEGIN:VTIMEZONE
TZID:America/Chicago
X-LIC-LOCATION:America/Chicago
BEGIN:DAYLIGHT
TZOFFSETFROM:-0600
TZOFFSETTO:-0500
TZNAME:CDT
DTSTART:19700308T020000
RRULE:FREQ=YEARLY;BYMONTH=3;BYDAY=2SU
END:DAYLIGHT
BEGIN:STANDARD
TZOFFSETFROM:-0500
TZOFFSETTO:-0600
TZNAME:CST
DTSTART:19701101T020000
RRULE:FREQ=YEARLY;BYMONTH=11;BYDAY=1SU
END:STANDARD
END:VTIMEZONE
BEGIN:VEVENT
UID:3181080:Event:1537961
DTSTAMP:20260422T211523Z
SUMMARY:New Portland, Maine Knife Show July 15, 2018
DESCRIPTION:We collect pocket knives, hunting knives, antique Bowie kn
 ives, military knives, hatchets, antique swords (American and foreign)
  and more. Bring along cutlery for trading up and selling to dealers. 
 See some of the finest custom knives around!\r\nPeople come to see wha
 t is on display for sale by our members, to talk collecting and hopefu
 lly find the elusive item they’ve wanting to fill in that special sp
 ot in their collection.\r\n   At our shows you can find all types of
  cutlery collectibles including scissors, carving sets, eating sets, o
 ld paper advertising, back issues of cutlery magazines, newspapers, an
 d more. You have to take your time and circle the room to take it all 
 in.\r\n   You might become a knife raffle winner! Please visit our w
 eb site http://www.ncca.info/ to read about our friendly organization.
 \r\n \n\nFor more information visit https://iknifecollector.com/event
 s/new-portland-maine-knife-show-july-15-2018
DTSTART;TZID=America/Chicago:20180715T090000
DTEND;TZID=America/Chicago:20180715T160000
CATEGORIES:knife, show, ncca
LOCATION:Portland, Maine Clarion Hotel (207) 774-5611
WEBSITE:http://www.ncca.info/
URL:http://www.ncca.info/
CONTACT:207 326-9695
ORGANIZER:Mike Mainen michael.mainen@gmail.com
ATTACH;FMTTYPE="image/jpeg":
ATTENDEE;ROLE=REQ-PARTICIPANT;PARTSTAT=ACCEPTED;RSVP=TRUE;CN="Paul S":
 https://iknifecollector.com/profile/PaulSatowski
END:VEVENT
END:VCALENDAR
