BEGIN:VCALENDAR
PRODID:NingEventWidget-v1
VERSION:2.0
METHOD:PUBLISH
BEGIN:VTIMEZONE
TZID:America/Chicago
X-LIC-LOCATION:America/Chicago
BEGIN:DAYLIGHT
TZOFFSETFROM:-0600
TZOFFSETTO:-0500
TZNAME:CDT
DTSTART:19700308T020000
RRULE:FREQ=YEARLY;BYMONTH=3;BYDAY=2SU
END:DAYLIGHT
BEGIN:STANDARD
TZOFFSETFROM:-0500
TZOFFSETTO:-0600
TZNAME:CST
DTSTART:19701101T020000
RRULE:FREQ=YEARLY;BYMONTH=11;BYDAY=1SU
END:STANDARD
END:VTIMEZONE
BEGIN:VEVENT
UID:3181080:Event:1202180
DTSTAMP:20260425T164054Z
SUMMARY:New York Custom Knife Show
DESCRIPTION:The main aim of the New York Custom Knife Show is to help 
 the professionals and experts of the industry to gain a forum to discu
 ss about the latest ideas and new opportunities that have been produce
 d in the sector. The expo also offers great information and ideas abou
 t the industry to the attendees and helps them to gain an insight abou
 t the industry. The show develops the industry and also helps the prof
 essionals to share their ideas and experiences significantly.\n\nFor m
 ore information visit https://iknifecollector.com/events/new-york-cust
 om-knife-show-3
DTSTART;TZID=America/Chicago:20141121T000000
DTEND;TZID=America/Chicago:20141123T235900
CATEGORIES:custom, knife, show
LOCATION:Westin Hotel     |    Jersey City, USA
WEBSITE:http://10times.com/nycks
URL:http://10times.com/nycks
CONTACT:
ORGANIZER;CN="Jan Carter":https://iknifecollector.com/profile/JanCarte
 r
ATTACH;FMTTYPE="image/jpeg":
ATTENDEE;ROLE=REQ-PARTICIPANT;PARTSTAT=ACCEPTED;RSVP=TRUE;CN="Jan Cart
 er":https://iknifecollector.com/profile/JanCarter
END:VEVENT
END:VCALENDAR
