BEGIN:VCALENDAR
PRODID:NingEventWidget-v1
VERSION:2.0
METHOD:PUBLISH
BEGIN:VTIMEZONE
TZID:America/Chicago
X-LIC-LOCATION:America/Chicago
BEGIN:DAYLIGHT
TZOFFSETFROM:-0600
TZOFFSETTO:-0500
TZNAME:CDT
DTSTART:19700308T020000
RRULE:FREQ=YEARLY;BYMONTH=3;BYDAY=2SU
END:DAYLIGHT
BEGIN:STANDARD
TZOFFSETFROM:-0500
TZOFFSETTO:-0600
TZNAME:CST
DTSTART:19701101T020000
RRULE:FREQ=YEARLY;BYMONTH=11;BYDAY=1SU
END:STANDARD
END:VTIMEZONE
BEGIN:VEVENT
UID:3181080:Event:1635260
DTSTAMP:20260422T131832Z
SUMMARY:New York Custom Knife show**cancelled**
DESCRIPTION:DATES & HOURS\r\nFRIDAY - NOVEMBER 20, 2020\r\n11:00 am - 
 VIP Pass and Guild Member Entrance\r\n1:00 pm - Collector Pass and Day
  Pass Entrance\r\n6:00 pm - Show Closes\r\nSATURDAY - NOVEMBER 21, 202
 0\r\n10:00 am - Show Opens to All Pass Holders\r\n6:00 pm - Show Close
 s \n\nFor more information visit https://iknifecollector.com/events/n
 ew-york-custom-knife-show-4
DTSTART;TZID=America/Chicago:20201120T000000
DTEND;TZID=America/Chicago:20201121T235900
CATEGORIES:knife, show
LOCATION:WESTIN JERSEY CITY NEWPORT
WEBSITE:http://www.fiftyfiftyproductions.net/new-york-custom-knife-sho
 w
URL:http://www.fiftyfiftyproductions.net/new-york-custom-knife-show
CONTACT:
ORGANIZER;CN="Jan Carter":https://iknifecollector.com/profile/JanCarte
 r
ATTACH;FMTTYPE="image/jpeg":
END:VEVENT
END:VCALENDAR
