BEGIN:VCALENDAR
PRODID:NingEventWidget-v1
VERSION:2.0
METHOD:PUBLISH
BEGIN:VTIMEZONE
TZID:America/Chicago
X-LIC-LOCATION:America/Chicago
BEGIN:DAYLIGHT
TZOFFSETFROM:-0600
TZOFFSETTO:-0500
TZNAME:CDT
DTSTART:19700308T020000
RRULE:FREQ=YEARLY;BYMONTH=3;BYDAY=2SU
END:DAYLIGHT
BEGIN:STANDARD
TZOFFSETFROM:-0500
TZOFFSETTO:-0600
TZNAME:CST
DTSTART:19701101T020000
RRULE:FREQ=YEARLY;BYMONTH=11;BYDAY=1SU
END:STANDARD
END:VTIMEZONE
BEGIN:VEVENT
UID:3181080:Event:92546
DTSTAMP:20260419T091316Z
SUMMARY:NKCA N.W. Georgia Knife Show
DESCRIPTION:7th Annual Show at Dalton.Free Admission For NKCA members.
 \n\nFor more information visit https://iknifecollector.com/events/nkca
 -nw-georgia-knife-show
DTSTART;TZID=America/Chicago:20100312T120000
DTEND;TZID=America/Chicago:20100314T140000
CATEGORIES:knife, show
LOCATION:N.W.Georgia Trade & Convention Center
WEBSITE:
URL:
CONTACT:NKCA office 423-228-2656
ORGANIZER;CN="Roger Cunningham":https://iknifecollector.com/profile/Ro
 gerCunningham
ATTACH;FMTTYPE="image/jpeg":
ATTENDEE;ROLE=REQ-PARTICIPANT;PARTSTAT=ACCEPTED;RSVP=TRUE;CN="Ken Mund
 henk":https://iknifecollector.com/profile/KenMundhenk
ATTENDEE;ROLE=REQ-PARTICIPANT;PARTSTAT=ACCEPTED;RSVP=TRUE;CN="tom whit
 e":https://iknifecollector.com/profile/tomwhite
ATTENDEE;ROLE=REQ-PARTICIPANT;PARTSTAT=ACCEPTED;RSVP=TRUE;CN="Gary Ken
 nedy":https://iknifecollector.com/profile/GaryKennedy
ATTENDEE;ROLE=REQ-PARTICIPANT;PARTSTAT=ACCEPTED;RSVP=TRUE;CN="Scott Ki
 ng":https://iknifecollector.com/profile/scottking
ATTENDEE;ROLE=REQ-PARTICIPANT;PARTSTAT=ACCEPTED;RSVP=TRUE;CN="Roger Cu
 nningham":https://iknifecollector.com/profile/RogerCunningham
END:VEVENT
END:VCALENDAR
