BEGIN:VCALENDAR
PRODID:NingEventWidget-v1
VERSION:2.0
METHOD:PUBLISH
BEGIN:VTIMEZONE
TZID:America/Chicago
X-LIC-LOCATION:America/Chicago
BEGIN:DAYLIGHT
TZOFFSETFROM:-0600
TZOFFSETTO:-0500
TZNAME:CDT
DTSTART:19700308T020000
RRULE:FREQ=YEARLY;BYMONTH=3;BYDAY=2SU
END:DAYLIGHT
BEGIN:STANDARD
TZOFFSETFROM:-0500
TZOFFSETTO:-0600
TZNAME:CST
DTSTART:19701101T020000
RRULE:FREQ=YEARLY;BYMONTH=11;BYDAY=1SU
END:STANDARD
END:VTIMEZONE
BEGIN:VEVENT
UID:3181080:Event:1399559
DTSTAMP:20260420T033623Z
SUMMARY:Northeast Cutlery Collectors Association *MA*
DESCRIPTION:At the Holiday Inn, Marlboro, MA (508) 481-3000 \r\nTabl
 e reservations & info, contact:  Linda Cain (978) 544-5348 email: ln
 dcain2@aol.com \n\nFor more information visit https://iknifecollector
 .com/events/northeast-cutlery-collectors-association-1
DTSTART;TZID=America/Chicago:20200322T090000
DTEND;TZID=America/Chicago:20200322T140000
CATEGORIES:knife, show
LOCATION:Holiday Inn, Marlboro, MA
WEBSITE:http://www.ihg.com/holidayinn/hotels/us/en/marlborough/mbrma/h
 oteldetail
URL:http://www.ihg.com/holidayinn/hotels/us/en/marlborough/mbrma/hotel
 detail
CONTACT:(978) 544-5348
ORGANIZER:NCCA (http://www.ncca.info)
ATTACH;FMTTYPE="image/jpeg":http://storage.ning.com/topology/rest/1.0/
 file/get/2831541004?profile=original
ATTENDEE;ROLE=REQ-PARTICIPANT;PARTSTAT=ACCEPTED;RSVP=TRUE;CN="Tim Udal
 l":https://iknifecollector.com/profile/TimUdall
END:VEVENT
END:VCALENDAR
