BEGIN:VCALENDAR
PRODID:NingEventWidget-v1
VERSION:2.0
METHOD:PUBLISH
BEGIN:VTIMEZONE
TZID:America/Chicago
X-LIC-LOCATION:America/Chicago
BEGIN:DAYLIGHT
TZOFFSETFROM:-0600
TZOFFSETTO:-0500
TZNAME:CDT
DTSTART:19700308T020000
RRULE:FREQ=YEARLY;BYMONTH=3;BYDAY=2SU
END:DAYLIGHT
BEGIN:STANDARD
TZOFFSETFROM:-0500
TZOFFSETTO:-0600
TZNAME:CST
DTSTART:19701101T020000
RRULE:FREQ=YEARLY;BYMONTH=11;BYDAY=1SU
END:STANDARD
END:VTIMEZONE
BEGIN:VEVENT
UID:3181080:Event:948681
DTSTAMP:20260424T204515Z
SUMMARY:Northeast Cutlery Collectors Association
DESCRIPTION:The NCCA Sponsors Three 1-day shows and one Annual 2-day s
 how each calendar year.\n\nFor more information visit https://iknifeco
 llector.com/events/northeast-cutlery-collectors-association
DTSTART;TZID=America/Chicago:20131110T000000
DTEND;TZID=America/Chicago:20131110T235900
CATEGORIES:knife, show
LOCATION:Marlboro, MA - Holiday Inn
WEBSITE:http://www.ncca.info/calendar.htm
URL:http://www.ncca.info/calendar.htm
CONTACT:
ORGANIZER;CN="Jan Carter":https://iknifecollector.com/profile/JanCarte
 r
ATTACH;FMTTYPE="image/jpeg":
ATTENDEE;ROLE=REQ-PARTICIPANT;PARTSTAT=ACCEPTED;RSVP=TRUE;CN="Jan Cart
 er":https://iknifecollector.com/profile/JanCarter
ATTENDEE;ROLE=REQ-PARTICIPANT;PARTSTAT=TENTATIVE;RSVP=TRUE;CN="Derek C
 ooper":https://iknifecollector.com/profile/DerekCooper
END:VEVENT
END:VCALENDAR
