BEGIN:VCALENDAR
PRODID:NingEventWidget-v1
VERSION:2.0
METHOD:PUBLISH
BEGIN:VTIMEZONE
TZID:America/Chicago
X-LIC-LOCATION:America/Chicago
BEGIN:DAYLIGHT
TZOFFSETFROM:-0600
TZOFFSETTO:-0500
TZNAME:CDT
DTSTART:19700308T020000
RRULE:FREQ=YEARLY;BYMONTH=3;BYDAY=2SU
END:DAYLIGHT
BEGIN:STANDARD
TZOFFSETFROM:-0500
TZOFFSETTO:-0600
TZNAME:CST
DTSTART:19701101T020000
RRULE:FREQ=YEARLY;BYMONTH=11;BYDAY=1SU
END:STANDARD
END:VTIMEZONE
BEGIN:VEVENT
UID:3181080:Event:149008
DTSTAMP:20260424T083701Z
SUMMARY:Northeast Cutlery Collectors Assoc. Knife Show
DESCRIPTION:NCCA Knife Show\nSunday, November 14th 2010\nContact the M
 arlboro, MA – Holiday Inn\nat (508) 481-3000\n\nTable reservations &
  info, contact:\nBill Cain (978) 544-5348\ne-mail: Jckknv1@.aol.com\n\
 nFor more information visit https://iknifecollector.com/events/northea
 st-cutlery-collectors
DTSTART;TZID=America/Chicago:20101114T090000
DTEND;TZID=America/Chicago:20101114T150000
CATEGORIES:knife, show
LOCATION:Marlboro, MA – Holiday Inn
WEBSITE:
URL:
CONTACT:(508) 481-3000
ORGANIZER:Bill Cain (978) 544-5348 e-mail: Jckknv1@.aol.com
ATTACH;FMTTYPE="image/jpeg":
ATTENDEE;ROLE=REQ-PARTICIPANT;PARTSTAT=ACCEPTED;RSVP=TRUE;CN="Jim Chil
 d":https://iknifecollector.com/profile/JimChild
END:VEVENT
END:VCALENDAR
