BEGIN:VCALENDAR
PRODID:NingEventWidget-v1
VERSION:2.0
METHOD:PUBLISH
BEGIN:VTIMEZONE
TZID:America/Chicago
X-LIC-LOCATION:America/Chicago
BEGIN:DAYLIGHT
TZOFFSETFROM:-0600
TZOFFSETTO:-0500
TZNAME:CDT
DTSTART:19700308T020000
RRULE:FREQ=YEARLY;BYMONTH=3;BYDAY=2SU
END:DAYLIGHT
BEGIN:STANDARD
TZOFFSETFROM:-0500
TZOFFSETTO:-0600
TZNAME:CST
DTSTART:19701101T020000
RRULE:FREQ=YEARLY;BYMONTH=11;BYDAY=1SU
END:STANDARD
END:VTIMEZONE
BEGIN:VEVENT
UID:3181080:Event:1426257
DTSTAMP:20260424T083819Z
SUMMARY:NORTHWEST KNIFE COLLECTOR'S  18th ANNUAL KNIFE SHOW
DESCRIPTION:ESTIMATED PUBLIC ATTENDANCE  6000 +\nHAND MADE CUSTOM KNI
 VES\nANTIQUE KNIVES, COMMERCIAL KNIVES\nHUNTING KNIVES, WORK KNIVES, 
 CHEF'SKNIVES\nCurrent 2016 NWKC members get free admittance to the sho
 w.\nACTIVITIES\nKNIFE FORGING EXHIBITION\nCUSTOM KNIFE RAFFLE\nGENERAL
  KNIFE RAFFLE\nCUSTOM KNIFE MAKERS AWARDS\nPRESENTATIONS AND, DEMONSTR
 ATIONS \n \n\nFor more information visit https://iknifecollector.com
 /events/northwest-knife-collector-s-18th-annual-knife-show
DTSTART;TZID=America/Chicago:20160806T000000
DTEND;TZID=America/Chicago:20160807T235900
CATEGORIES:knife, show
LOCATION:WESTERN WASHINGTON STATE FAIRGROUNDS
WEBSITE:http://www.nwkc.org/show-information.html
URL:http://www.nwkc.org/show-information.html
CONTACT:
ORGANIZER;CN="Jan Carter":https://iknifecollector.com/profile/JanCarte
 r
ATTACH;FMTTYPE="image/jpeg":
ATTENDEE;ROLE=REQ-PARTICIPANT;PARTSTAT=ACCEPTED;RSVP=TRUE;CN="Jim Walk
 er":https://iknifecollector.com/profile/JimWalker
END:VEVENT
END:VCALENDAR
