BEGIN:VCALENDAR
PRODID:NingEventWidget-v1
VERSION:2.0
METHOD:PUBLISH
BEGIN:VTIMEZONE
TZID:America/Chicago
X-LIC-LOCATION:America/Chicago
BEGIN:DAYLIGHT
TZOFFSETFROM:-0600
TZOFFSETTO:-0500
TZNAME:CDT
DTSTART:19700308T020000
RRULE:FREQ=YEARLY;BYMONTH=3;BYDAY=2SU
END:DAYLIGHT
BEGIN:STANDARD
TZOFFSETFROM:-0500
TZOFFSETTO:-0600
TZNAME:CST
DTSTART:19701101T020000
RRULE:FREQ=YEARLY;BYMONTH=11;BYDAY=1SU
END:STANDARD
END:VTIMEZONE
BEGIN:VEVENT
UID:3181080:Event:838583
DTSTAMP:20260422T225902Z
SUMMARY:NRA Annual Meeting
DESCRIPTION:You won’t be able to see everything at the NRA show, but
  do stop by the Case booth and check out the newest knives from Case X
 X. We’ll have a special guest at our booth this year—Matt Hughes, 
 a five time champion of the UFC, will be making an appearance. More la
 ter on the time and details.And don’t miss the Limited Edition NRA 2
 013 Case Trapper, shown above for $ 79.99. We’ll have 100 of these t
 hat are serial numbered and we are taking reservations on them now. C
 lick here to reserve.\nhttp://www.casexx.com/News/\n\nFor more informa
 tion visit https://iknifecollector.com/events/nra-annual-meeting
DTSTART;TZID=America/Chicago:20130503T000000
DTEND;TZID=America/Chicago:20130505T235900
CATEGORIES:nra, annual, meeting
LOCATION:George R. Brown Convention Center
WEBSITE:http://www.casexx.com/News/
URL:http://www.casexx.com/News/
CONTACT:
ORGANIZER;CN="Jan Carter":https://iknifecollector.com/profile/JanCarte
 r
ATTACH;FMTTYPE="image/jpeg":
ATTENDEE;ROLE=REQ-PARTICIPANT;PARTSTAT=ACCEPTED;RSVP=TRUE;CN="Jan Cart
 er":https://iknifecollector.com/profile/JanCarter
END:VEVENT
END:VCALENDAR
