BEGIN:VCALENDAR
PRODID:NingEventWidget-v1
VERSION:2.0
METHOD:PUBLISH
BEGIN:VTIMEZONE
TZID:America/Chicago
X-LIC-LOCATION:America/Chicago
BEGIN:DAYLIGHT
TZOFFSETFROM:-0600
TZOFFSETTO:-0500
TZNAME:CDT
DTSTART:19700308T020000
RRULE:FREQ=YEARLY;BYMONTH=3;BYDAY=2SU
END:DAYLIGHT
BEGIN:STANDARD
TZOFFSETFROM:-0500
TZOFFSETTO:-0600
TZNAME:CST
DTSTART:19701101T020000
RRULE:FREQ=YEARLY;BYMONTH=11;BYDAY=1SU
END:STANDARD
END:VTIMEZONE
BEGIN:VEVENT
UID:3181080:Event:565489
DTSTAMP:20260422T094601Z
SUMMARY:Oklahoma Custom Knife Show 2012
DESCRIPTION:he Knife Group Association of Oklahoma invites you to atte
 nd the 2012 Custom Knife Show to be held at the Cleveland County Fairg
 rounds, 615 E Robinson in Norman Oklahoma on the 3rd of March, 2012.\n
 The show will be open to the public at 9am and last until 6pm for one 
 day only. Admission for adults is $5.00 and children accompanied by pa
 rents will be admitted free.\nBring your mom or dad and you will get i
 n FREE.\nThis show is the only custom knife show that is held in Oklah
 oma. Makers from Oklahoma, Kansas, Arkansas, Missouri, and Texas have 
 attended. Many are from the organizations of The Knifemakers Guild, Am
 erican Bladesmith Society, and Professional Knifemakers Association. S
 ome are just good makers that like to make knives.\n\nFor more informa
 tion visit https://iknifecollector.com/events/oklahoma-custom-knife-sh
 ow-2012
DTSTART;TZID=America/Chicago:20120303T000000
DTEND;TZID=America/Chicago:20120303T235900
CATEGORIES:custom, knife, show
LOCATION:Cleveland County Fairgrounds
WEBSITE:http://geomium.com/event/oklahoma-custom-knife-show-2012-49010
 26/
URL:http://geomium.com/event/oklahoma-custom-knife-show-2012-4901026/
CONTACT:
ORGANIZER;CN="Jan Carter":https://iknifecollector.com/profile/JanCarte
 r
ATTACH;FMTTYPE="image/jpeg":
ATTENDEE;ROLE=REQ-PARTICIPANT;PARTSTAT=ACCEPTED;RSVP=TRUE;CN="Jan Cart
 er":https://iknifecollector.com/profile/JanCarter
END:VEVENT
END:VCALENDAR
