BEGIN:VCALENDAR
PRODID:NingEventWidget-v1
VERSION:2.0
METHOD:PUBLISH
BEGIN:VTIMEZONE
TZID:America/Chicago
X-LIC-LOCATION:America/Chicago
BEGIN:DAYLIGHT
TZOFFSETFROM:-0600
TZOFFSETTO:-0500
TZNAME:CDT
DTSTART:19700308T020000
RRULE:FREQ=YEARLY;BYMONTH=3;BYDAY=2SU
END:DAYLIGHT
BEGIN:STANDARD
TZOFFSETFROM:-0500
TZOFFSETTO:-0600
TZNAME:CST
DTSTART:19701101T020000
RRULE:FREQ=YEARLY;BYMONTH=11;BYDAY=1SU
END:STANDARD
END:VTIMEZONE
BEGIN:VEVENT
UID:3181080:Event:37673
DTSTAMP:20260424T190503Z
SUMMARY:Oklahoma Custom Knife Show
DESCRIPTION:This knife show is a one day event and is to be held in Tu
 lsa, OK on Aug. 29th. I will be at table #61 and I have a few passes i
 f you would like a couple.\n\nFor more information visit https://iknif
 ecollector.com/events/oklahoma-custom-knife-show
DTSTART;TZID=America/Chicago:20090829T100000
DTEND;TZID=America/Chicago:20090829T190000
CATEGORIES:knife, show
LOCATION:Tulsa Civic Center
WEBSITE:http://www.theknifegroup.com/oklahoma_custom_knife.htm
URL:http://www.theknifegroup.com/oklahoma_custom_knife.htm
CONTACT:
ORGANIZER;CN="Allen Newberry":https://iknifecollector.com/profile/Alle
 nNewberry
ATTACH;FMTTYPE="image/jpeg":http://storage.ning.com/topology/rest/1.0/
 file/get/2831230862?profile=original
ATTENDEE;ROLE=REQ-PARTICIPANT;PARTSTAT=ACCEPTED;RSVP=TRUE;CN="Allen Ne
 wberry":https://iknifecollector.com/profile/AllenNewberry
END:VEVENT
END:VCALENDAR
