BEGIN:VCALENDAR
PRODID:NingEventWidget-v1
VERSION:2.0
METHOD:PUBLISH
BEGIN:VTIMEZONE
TZID:America/Chicago
X-LIC-LOCATION:America/Chicago
BEGIN:DAYLIGHT
TZOFFSETFROM:-0600
TZOFFSETTO:-0500
TZNAME:CDT
DTSTART:19700308T020000
RRULE:FREQ=YEARLY;BYMONTH=3;BYDAY=2SU
END:DAYLIGHT
BEGIN:STANDARD
TZOFFSETFROM:-0500
TZOFFSETTO:-0600
TZNAME:CST
DTSTART:19701101T020000
RRULE:FREQ=YEARLY;BYMONTH=11;BYDAY=1SU
END:STANDARD
END:VTIMEZONE
BEGIN:VEVENT
UID:3181080:Event:761748
DTSTAMP:20260422T190642Z
SUMMARY:Oregon Knife Collectors Association*Eugene
DESCRIPTION:On display and for sale:Knives, Swords, Razors, Cutlery, B
 lades, Tools, Bayonets, Scissors, Hat pins, Pocket knives, Kitchen kni
 ves, Old knives, New knives, Custom knives, Straight knives, Stone kni
 ves, Knife Making supplies and anything that goes \"cut.\"\n\nFor more
  information visit https://iknifecollector.com/events/oregon-knife-col
 lectors-association-eugene
DTSTART;TZID=America/Chicago:20130413T000000
DTEND;TZID=America/Chicago:20130414T235900
CATEGORIES:knive, show
LOCATION:Lane Events Center
WEBSITE:http://www.oregonknifeclub.org/okcashow.html
URL:http://www.oregonknifeclub.org/okcashow.html
CONTACT:
ORGANIZER;CN="Jan Carter":https://iknifecollector.com/profile/JanCarte
 r
ATTACH;FMTTYPE="image/jpeg":
ATTENDEE;ROLE=REQ-PARTICIPANT;PARTSTAT=ACCEPTED;RSVP=TRUE;CN="Jan Cart
 er":https://iknifecollector.com/profile/JanCarter
END:VEVENT
END:VCALENDAR
