BEGIN:VCALENDAR
PRODID:NingEventWidget-v1
VERSION:2.0
METHOD:PUBLISH
BEGIN:VTIMEZONE
TZID:America/Chicago
X-LIC-LOCATION:America/Chicago
BEGIN:DAYLIGHT
TZOFFSETFROM:-0600
TZOFFSETTO:-0500
TZNAME:CDT
DTSTART:19700308T020000
RRULE:FREQ=YEARLY;BYMONTH=3;BYDAY=2SU
END:DAYLIGHT
BEGIN:STANDARD
TZOFFSETFROM:-0500
TZOFFSETTO:-0600
TZNAME:CST
DTSTART:19701101T020000
RRULE:FREQ=YEARLY;BYMONTH=11;BYDAY=1SU
END:STANDARD
END:VTIMEZONE
BEGIN:VEVENT
UID:3181080:Event:43927
DTSTAMP:20260424T201643Z
SUMMARY:Original Fort Worth Gun Show
DESCRIPTION:WELCOME\n\nVisitors to the Original Fort Worth Gun Show an
 d our other shows will enjoy a huge selection of firearms, ammunition,
  shooting supplies and knives.\n\nOur dealers will have \"direct from 
 the factory\" guns as well as pre-owned and collectibles. At the show 
 you can buy, sell or trade. The gun show is more than just guns, you c
 an also find a wide array of ammo, scopes, clips, reloading supplies a
 nd other accessories. There are concealed carry permit instructors fro
 m whom you can purchase an off-site approved course.\n\nWe also have k
 nife dealers, custom knife makers, knife-making supplies, personal def
 ense items, militaria, cammo and western clothing.\n\nAt the our shows
  you can find just about everything related to hunting and shooting, a
 nd a whole lot more!\n\nNOTICE\n\nYou may bring your gun to the show -
  it must be unloaded, checked by the Police Officers at the entrance, 
 and tied with a plastic tie. NO EXCEPTIONS - including concealed carry
  permit holders, the show is posted as such in accordance with Texas l
 aws.\n\nFor more information visit https://iknifecollector.com/events/
 original-fort-worth-gun-show
DTSTART;TZID=America/Chicago:20090829T000000
DTEND;TZID=America/Chicago:20090830T235900
CATEGORIES:gun, and, knife, show
LOCATION:Amon G. Carter Exhibit Hall at the Will Rogers Memorial Cente
 r.
WEBSITE:http://www.ftworthgunshow.com/
URL:http://www.ftworthgunshow.com/
CONTACT:(817) 392-7469‎
ORGANIZER:Tim and Michelle Finucane
ATTACH;FMTTYPE="image/jpeg":
ATTENDEE;ROLE=REQ-PARTICIPANT;PARTSTAT=ACCEPTED;RSVP=TRUE;CN="Bruce Pi
 ehl":https://iknifecollector.com/profile/brucepiehl
END:VEVENT
END:VCALENDAR
