BEGIN:VCALENDAR
PRODID:NingEventWidget-v1
VERSION:2.0
METHOD:PUBLISH
BEGIN:VTIMEZONE
TZID:America/Chicago
X-LIC-LOCATION:America/Chicago
BEGIN:DAYLIGHT
TZOFFSETFROM:-0600
TZOFFSETTO:-0500
TZNAME:CDT
DTSTART:19700308T020000
RRULE:FREQ=YEARLY;BYMONTH=3;BYDAY=2SU
END:DAYLIGHT
BEGIN:STANDARD
TZOFFSETFROM:-0500
TZOFFSETTO:-0600
TZNAME:CST
DTSTART:19701101T020000
RRULE:FREQ=YEARLY;BYMONTH=11;BYDAY=1SU
END:STANDARD
END:VTIMEZONE
BEGIN:VEVENT
UID:3181080:Event:1426254
DTSTAMP:20260424T072317Z
SUMMARY:PA KNIFEMAKERS AND COLLECTORS, LLC 12th ANNUAL SHOW & FAMILY R
 EUNION
DESCRIPTION:PA KNIFEMAKERS AND COLLECTORS, LLC12th ANNUAL SHOW & FAMIL
 Y REUNIONDATE: Friday July 29TH, Saturday July 30th 2016WHERE: New Sta
 nton Fire Halle New Stanton, PATIME: Public hours, Friday, 12 noon to 
 5 pm, Saturday 8:00 am till 4:00 pmDEALER SET-UP: Friday 7:00 AM to 12
  Noon, Saturday 7:OOam to 8:00 am.TABLE COST: $ 60.00 per 8 ft table. 
 DISPLAY TABLES: No $.QUESTIONS: CALL 412-554-6705 for Mike SullivanEMA
 IL mikes(@paknifemakers.comLODGING: Comfort Inn... 1-855-809-3507 Days
  Inn... 1-724-925-9859\nNarne-------- Address------ City------------
 ---------------------------state Zip\nTotal Make check payable toPA K
 NIFE MAKERS AND COLLECTORS, LLCMail to 401 REVERE LANEMURRYSVILLE, PA 
 15632-1519\n\nFor more information visit https://iknifecollector.com/e
 vents/pa-knifemakers-and-collectors-llc-12th-annual-show-family-reunio
 n
DTSTART;TZID=America/Chicago:20160729T180000
DTEND;TZID=America/Chicago:20160730T190000
CATEGORIES:knife, show
LOCATION:New Stanton Fire Halle New Stanton, PA
WEBSITE:https://www.facebook.com/AMKCA/posts/998020703614788
URL:https://www.facebook.com/AMKCA/posts/998020703614788
CONTACT:
ORGANIZER;CN="Jan Carter":https://iknifecollector.com/profile/JanCarte
 r
ATTACH;FMTTYPE="image/jpeg":
END:VEVENT
END:VCALENDAR
