BEGIN:VCALENDAR
PRODID:NingEventWidget-v1
VERSION:2.0
METHOD:PUBLISH
BEGIN:VTIMEZONE
TZID:America/Chicago
X-LIC-LOCATION:America/Chicago
BEGIN:DAYLIGHT
TZOFFSETFROM:-0600
TZOFFSETTO:-0500
TZNAME:CDT
DTSTART:19700308T020000
RRULE:FREQ=YEARLY;BYMONTH=3;BYDAY=2SU
END:DAYLIGHT
BEGIN:STANDARD
TZOFFSETFROM:-0500
TZOFFSETTO:-0600
TZNAME:CST
DTSTART:19701101T020000
RRULE:FREQ=YEARLY;BYMONTH=11;BYDAY=1SU
END:STANDARD
END:VTIMEZONE
BEGIN:VEVENT
UID:3181080:Event:162714
DTSTAMP:20260424T133755Z
SUMMARY:Parkers` Greatest Knife Show on Earth
DESCRIPTION:Parkers Bi-annual knife show\n\nFor more information visit
  https://iknifecollector.com/events/parkers-greatest-knife-show-on-1
DTSTART;TZID=America/Chicago:20101209T120000
DTEND;TZID=America/Chicago:20101211T140000
CATEGORIES:knife, show
LOCATION:Sevierville Events Center at Bridgemont
WEBSITE:
URL:
CONTACT:
ORGANIZER;CN="Roger Cunningham":https://iknifecollector.com/profile/Ro
 gerCunningham
ATTACH;FMTTYPE="image/jpeg":
ATTENDEE;ROLE=REQ-PARTICIPANT;PARTSTAT=ACCEPTED;RSVP=TRUE;CN="lou gerr
 ick":https://iknifecollector.com/profile/lougerrick
ATTENDEE;ROLE=REQ-PARTICIPANT;PARTSTAT=ACCEPTED;RSVP=TRUE;CN="Mark Zal
 esky":https://iknifecollector.com/profile/MarkZalesky
ATTENDEE;ROLE=REQ-PARTICIPANT;PARTSTAT=ACCEPTED;RSVP=TRUE;CN="Ken Mund
 henk":https://iknifecollector.com/profile/KenMundhenk
ATTENDEE;ROLE=REQ-PARTICIPANT;PARTSTAT=ACCEPTED;RSVP=TRUE;CN="Jim Wood
 s":https://iknifecollector.com/profile/JimWoods
ATTENDEE;ROLE=REQ-PARTICIPANT;PARTSTAT=ACCEPTED;RSVP=TRUE;CN="Roger Cu
 nningham":https://iknifecollector.com/profile/RogerCunningham
ATTENDEE;ROLE=REQ-PARTICIPANT;PARTSTAT=TENTATIVE;RSVP=TRUE;CN="William
  J. Beley":https://iknifecollector.com/profile/WilliamJBeley
ATTENDEE;ROLE=REQ-PARTICIPANT;PARTSTAT=TENTATIVE;RSVP=TRUE;CN="Scott K
 ing":https://iknifecollector.com/profile/scottking
END:VEVENT
END:VCALENDAR
