BEGIN:VCALENDAR
PRODID:NingEventWidget-v1
VERSION:2.0
METHOD:PUBLISH
BEGIN:VTIMEZONE
TZID:America/Chicago
X-LIC-LOCATION:America/Chicago
BEGIN:DAYLIGHT
TZOFFSETFROM:-0600
TZOFFSETTO:-0500
TZNAME:CDT
DTSTART:19700308T020000
RRULE:FREQ=YEARLY;BYMONTH=3;BYDAY=2SU
END:DAYLIGHT
BEGIN:STANDARD
TZOFFSETFROM:-0500
TZOFFSETTO:-0600
TZNAME:CST
DTSTART:19701101T020000
RRULE:FREQ=YEARLY;BYMONTH=11;BYDAY=1SU
END:STANDARD
END:VTIMEZONE
BEGIN:VEVENT
UID:3181080:Event:441251
DTSTAMP:20260424T171950Z
SUMMARY:Parkers' Greatest Knife Show On Earth
DESCRIPTION:The show is held at The Sevierville Events Center at Brid
 gemont.This is a fabulous, safe place for the entire family that will
  soon beits own little entertainment city on the hill   !!\n\nFor mo
 re information visit https://iknifecollector.com/events/parkers-greate
 st-knife-show-on-earth
DTSTART;TZID=America/Chicago:20111208T000000
DTEND;TZID=America/Chicago:20111210T235900
CATEGORIES:knife, show
LOCATION:The Sevierville Events Center at Bridgemont
WEBSITE:http://www.bulldogknives.org/id1.html
URL:http://www.bulldogknives.org/id1.html
CONTACT:
ORGANIZER:http://www.bulldogknives.org/id1.html
ATTACH;FMTTYPE="image/jpeg":
ATTENDEE;ROLE=REQ-PARTICIPANT;PARTSTAT=ACCEPTED;RSVP=TRUE;CN="Roger Ru
 ssell":https://iknifecollector.com/profile/RogerRussell
ATTENDEE;ROLE=REQ-PARTICIPANT;PARTSTAT=ACCEPTED;RSVP=TRUE;CN="lou gerr
 ick":https://iknifecollector.com/profile/lougerrick
ATTENDEE;ROLE=REQ-PARTICIPANT;PARTSTAT=ACCEPTED;RSVP=TRUE;CN="Roger Cu
 nningham":https://iknifecollector.com/profile/RogerCunningham
ATTENDEE;ROLE=REQ-PARTICIPANT;PARTSTAT=ACCEPTED;RSVP=TRUE;CN="Jan Cart
 er":https://iknifecollector.com/profile/JanCarter
END:VEVENT
END:VCALENDAR
