BEGIN:VCALENDAR
PRODID:NingEventWidget-v1
VERSION:2.0
METHOD:PUBLISH
BEGIN:VTIMEZONE
TZID:America/Chicago
X-LIC-LOCATION:America/Chicago
BEGIN:DAYLIGHT
TZOFFSETFROM:-0600
TZOFFSETTO:-0500
TZNAME:CDT
DTSTART:19700308T020000
RRULE:FREQ=YEARLY;BYMONTH=3;BYDAY=2SU
END:DAYLIGHT
BEGIN:STANDARD
TZOFFSETFROM:-0500
TZOFFSETTO:-0600
TZNAME:CST
DTSTART:19701101T020000
RRULE:FREQ=YEARLY;BYMONTH=11;BYDAY=1SU
END:STANDARD
END:VTIMEZONE
BEGIN:VEVENT
UID:3181080:Event:850558
DTSTAMP:20260422T225635Z
SUMMARY:Parkers Greatest Show on Earth
DESCRIPTION:***Early Bird Pass ***\n$20.00...what do you get?\nSpecial
  Early Entry Time Thursday 10AM\n Special Early Entry Time Friday 8AM
 \n Special Early Entry Time Saturday 8AM\nFree Parking during Show Ho
 urs in rear of Center\nCome to the rear of the Convention Center for E
 arly Bird Entrance and Parking Pass\n\nFor more information visit http
 s://iknifecollector.com/events/parkers-greatest-show-on-earth
DTSTART;TZID=America/Chicago:20130613T000000
DTEND;TZID=America/Chicago:20130615T235900
CATEGORIES:knife, show
LOCATION:The Sevierville Events Center at Bridgemont.
WEBSITE:http://www.bulldogknives.org/id1.html
URL:http://www.bulldogknives.org/id1.html
CONTACT:
ORGANIZER;CN="Jan Carter":https://iknifecollector.com/profile/JanCarte
 r
ATTACH;FMTTYPE="image/jpeg":
ATTENDEE;ROLE=REQ-PARTICIPANT;PARTSTAT=ACCEPTED;RSVP=TRUE;CN="Jan Cart
 er":https://iknifecollector.com/profile/JanCarter
ATTENDEE;ROLE=REQ-PARTICIPANT;PARTSTAT=ACCEPTED;RSVP=TRUE;CN="Dave @ T
 riple XXX Cutlery":https://iknifecollector.com/profile/dave379
END:VEVENT
END:VCALENDAR
