BEGIN:VCALENDAR
PRODID:NingEventWidget-v1
VERSION:2.0
METHOD:PUBLISH
BEGIN:VTIMEZONE
TZID:America/Chicago
X-LIC-LOCATION:America/Chicago
BEGIN:DAYLIGHT
TZOFFSETFROM:-0600
TZOFFSETTO:-0500
TZNAME:CDT
DTSTART:19700308T020000
RRULE:FREQ=YEARLY;BYMONTH=3;BYDAY=2SU
END:DAYLIGHT
BEGIN:STANDARD
TZOFFSETFROM:-0500
TZOFFSETTO:-0600
TZNAME:CST
DTSTART:19701101T020000
RRULE:FREQ=YEARLY;BYMONTH=11;BYDAY=1SU
END:STANDARD
END:VTIMEZONE
BEGIN:VEVENT
UID:3181080:Event:1228832
DTSTAMP:20260425T132511Z
SUMMARY:Parkers Winter Steel Trade Show
DESCRIPTION:The show is held at The Sevierville Events Center at Bri
 dgemont.This is a fabulous newly built Center.\nIt is attached to an 
 indoor Waterpark and Hotel as well as Condominiums.\nFree Shuttle serv
 ices provided all day from the Convention Center to local attractions!
 !   \n\n\n\nParkers' Greatest Knife Show On EarthUpcoming Show Dates
 \nFREE PARKING TO ALL!!!!!\n\n\nFor more information visit https://ikn
 ifecollector.com/events/parkers-winter-steel-trade-show
DTSTART;TZID=America/Chicago:20141211T000000
DTEND;TZID=America/Chicago:20141211T235900
CATEGORIES:knife, show
LOCATION:The Sevierville Events Center at Bridgemont.
WEBSITE:http://www.bulldogknives.org/id1.html
URL:http://www.bulldogknives.org/id1.html
CONTACT:
ORGANIZER;CN="Jan Carter":https://iknifecollector.com/profile/JanCarte
 r
ATTACH;FMTTYPE="image/jpeg":
ATTENDEE;ROLE=REQ-PARTICIPANT;PARTSTAT=ACCEPTED;RSVP=TRUE;CN="Roger Cu
 nningham":https://iknifecollector.com/profile/RogerCunningham
ATTENDEE;ROLE=REQ-PARTICIPANT;PARTSTAT=ACCEPTED;RSVP=TRUE;CN="Jan Cart
 er":https://iknifecollector.com/profile/JanCarter
END:VEVENT
END:VCALENDAR
