BEGIN:VCALENDAR
PRODID:NingEventWidget-v1
VERSION:2.0
METHOD:PUBLISH
BEGIN:VTIMEZONE
TZID:America/Chicago
X-LIC-LOCATION:America/Chicago
BEGIN:DAYLIGHT
TZOFFSETFROM:-0600
TZOFFSETTO:-0500
TZNAME:CDT
DTSTART:19700308T020000
RRULE:FREQ=YEARLY;BYMONTH=3;BYDAY=2SU
END:DAYLIGHT
BEGIN:STANDARD
TZOFFSETFROM:-0500
TZOFFSETTO:-0600
TZNAME:CST
DTSTART:19701101T020000
RRULE:FREQ=YEARLY;BYMONTH=11;BYDAY=1SU
END:STANDARD
END:VTIMEZONE
BEGIN:VEVENT
UID:3181080:Event:1693984
DTSTAMP:20260419T112825Z
SUMMARY:Pigeon Forge Knife Roadshow **TN**
DESCRIPTION:In 2022, the Dalton, Georgia knife show moves to our favor
 ite venue in Pigeon Forge, TN. This show frequently sells out, so if y
 ou are looking to reserve a table do not wait!\n\nFor more information
  visit https://iknifecollector.com/events/pigeon-forge-knife-roadshow-
 tn
DTSTART;TZID=America/Chicago:20220318T180000
DTEND;TZID=America/Chicago:20220320T190000
CATEGORIES:knife, show
LOCATION:Smoky Mountain Convention Center
WEBSITE:https://www.jbrucevoyles.com/
URL:https://www.jbrucevoyles.com/
CONTACT:
ORGANIZER;CN="Jan Carter":https://iknifecollector.com/profile/JanCarte
 r
ATTACH;FMTTYPE="image/jpeg":
END:VEVENT
END:VCALENDAR
