BEGIN:VCALENDAR
PRODID:NingEventWidget-v1
VERSION:2.0
METHOD:PUBLISH
BEGIN:VTIMEZONE
TZID:America/Chicago
X-LIC-LOCATION:America/Chicago
BEGIN:DAYLIGHT
TZOFFSETFROM:-0600
TZOFFSETTO:-0500
TZNAME:CDT
DTSTART:19700308T020000
RRULE:FREQ=YEARLY;BYMONTH=3;BYDAY=2SU
END:DAYLIGHT
BEGIN:STANDARD
TZOFFSETFROM:-0500
TZOFFSETTO:-0600
TZNAME:CST
DTSTART:19701101T020000
RRULE:FREQ=YEARLY;BYMONTH=11;BYDAY=1SU
END:STANDARD
END:VTIMEZONE
BEGIN:VEVENT
UID:3181080:Event:738391
DTSTAMP:20260422T211144Z
SUMMARY:Plaza Cutlery Hawaiian Custom Knife Show
DESCRIPTION:Plaza Cutlery Hawaiian Custom Knife Show\n\nFor more infor
 mation visit https://iknifecollector.com/events/plaza-cutlery-hawaiian
 -custom-knife-show
DTSTART;TZID=America/Chicago:20130413T000000
DTEND;TZID=America/Chicago:20130413T235900
CATEGORIES:knife, show
LOCATION:Hilton Hawaiian Village
WEBSITE:http://www.plazacutlery.com/Hawaiian%20Knife%20Show.htm
URL:http://www.plazacutlery.com/Hawaiian%20Knife%20Show.htm
CONTACT:
ORGANIZER;CN="Jan Carter":https://iknifecollector.com/profile/JanCarte
 r
ATTACH;FMTTYPE="image/jpeg":
ATTENDEE;ROLE=REQ-PARTICIPANT;PARTSTAT=ACCEPTED;RSVP=TRUE;CN="Jan Cart
 er":https://iknifecollector.com/profile/JanCarter
END:VEVENT
END:VCALENDAR
